BEGIN:VCALENDAR
VERSION:2.0
PRODID:-//Friends of Madrona Marsh - ECPv6.15.20//NONSGML v1.0//EN
CALSCALE:GREGORIAN
METHOD:PUBLISH
X-ORIGINAL-URL:https://www.friendsofmadronamarsh.com
X-WR-CALDESC:Events for Friends of Madrona Marsh
REFRESH-INTERVAL;VALUE=DURATION:PT1H
X-Robots-Tag:noindex
X-PUBLISHED-TTL:PT1H
BEGIN:VTIMEZONE
TZID:America/Los_Angeles
BEGIN:DAYLIGHT
TZOFFSETFROM:-0800
TZOFFSETTO:-0700
TZNAME:PDT
DTSTART:20280312T100000
END:DAYLIGHT
BEGIN:STANDARD
TZOFFSETFROM:-0700
TZOFFSETTO:-0800
TZNAME:PST
DTSTART:20281105T090000
END:STANDARD
BEGIN:DAYLIGHT
TZOFFSETFROM:-0800
TZOFFSETTO:-0700
TZNAME:PDT
DTSTART:20290311T100000
END:DAYLIGHT
BEGIN:STANDARD
TZOFFSETFROM:-0700
TZOFFSETTO:-0800
TZNAME:PST
DTSTART:20291104T090000
END:STANDARD
BEGIN:DAYLIGHT
TZOFFSETFROM:-0800
TZOFFSETTO:-0700
TZNAME:PDT
DTSTART:20300310T100000
END:DAYLIGHT
BEGIN:STANDARD
TZOFFSETFROM:-0700
TZOFFSETTO:-0800
TZNAME:PST
DTSTART:20301103T090000
END:STANDARD
END:VTIMEZONE
BEGIN:VEVENT
DTSTART;VALUE=DATE:20290528
DTEND;VALUE=DATE:20290529
DTSTAMP:20260419T092428
CREATED:20251217T000044Z
LAST-MODIFIED:20251217T000215Z
UID:10002638-1874620800-1874707199@www.friendsofmadronamarsh.com
SUMMARY:Closed - Preserve & Nature Center
DESCRIPTION:
URL:https://www.friendsofmadronamarsh.com/event/preserve-nature-center-closed-2/2029-05-28/
LOCATION:Madrona Marsh Nature Center\, 3201 Plaza Del Amo\, Torrance\, CA\, 90503\, United States
END:VEVENT
BEGIN:VEVENT
DTSTART;TZID=America/Los_Angeles:20290601T100000
DTEND;TZID=America/Los_Angeles:20290601T120000
DTSTAMP:20260419T092428
CREATED:20260107T195358Z
LAST-MODIFIED:20260227T202426Z
UID:10002999-1875002400-1875009600@www.friendsofmadronamarsh.com
SUMMARY:Friday Fun
DESCRIPTION:Friday Fun is a hands-on program for preschoolers\, age 3-6\, and their parents or guardians. The program is offered at no charge every Friday. The program will incorporate story time\, science\, art\, and a tour emphasizing the chosen topic. \n\n\n\nSome weeks\, there will also be potting or other activities. The topics emphasize respect for all living things and prepare the children (and parents) to be good stewards of the planet. \n\n\n\nPre-registration is required. \n\n\n\nRegistration for the Friday event begins on Tuesday at 10:00 am of the same week.Call the Nature Center to register at (310)782-3989. \n\n\n\nSpace is limited to the first 20 people who sign up \n\n\n\n\n\n\n\n\n\n\n\n\n\n\n\n 
URL:https://www.friendsofmadronamarsh.com/event/fridayfun-3/2029-06-01/
LOCATION:Madrona Marsh Nature Center\, 3201 Plaza Del Amo\, Torrance\, CA\, 90503\, United States
CATEGORIES:Kids Programs
ATTACH;FMTTYPE=image/jpeg:https://www.friendsofmadronamarsh.com/wp-content/uploads/2025/10/kids-den-friday-fun-cindy-kids-madrona-marsh.jpg
END:VEVENT
BEGIN:VEVENT
DTSTART;VALUE=DATE:20290603
DTEND;VALUE=DATE:20290604
DTSTAMP:20260419T092428
CREATED:20251217T000044Z
LAST-MODIFIED:20251217T000215Z
UID:10002639-1875139200-1875225599@www.friendsofmadronamarsh.com
SUMMARY:Closed - Preserve & Nature Center
DESCRIPTION:
URL:https://www.friendsofmadronamarsh.com/event/preserve-nature-center-closed-2/2029-06-03/
LOCATION:Madrona Marsh Nature Center\, 3201 Plaza Del Amo\, Torrance\, CA\, 90503\, United States
END:VEVENT
BEGIN:VEVENT
DTSTART;VALUE=DATE:20290604
DTEND;VALUE=DATE:20290605
DTSTAMP:20260419T092428
CREATED:20251217T000044Z
LAST-MODIFIED:20251217T000215Z
UID:10002640-1875225600-1875311999@www.friendsofmadronamarsh.com
SUMMARY:Closed - Preserve & Nature Center
DESCRIPTION:
URL:https://www.friendsofmadronamarsh.com/event/preserve-nature-center-closed-2/2029-06-04/
LOCATION:Madrona Marsh Nature Center\, 3201 Plaza Del Amo\, Torrance\, CA\, 90503\, United States
END:VEVENT
BEGIN:VEVENT
DTSTART;TZID=America/Los_Angeles:20290607T100000
DTEND;TZID=America/Los_Angeles:20290607T113000
DTSTAMP:20260419T092428
CREATED:20251104T031938Z
LAST-MODIFIED:20260111T210108Z
UID:10001366-1875520800-1875526200@www.friendsofmadronamarsh.com
SUMMARY:Tyke Hike
DESCRIPTION:Bring your young child (ages 0 – 6 yr.) for a walk around the Preserve and an introduction to nature. Listen to birds\, look for frogs\, and get refreshed in the sun and our cool breeze. \nChildren must be accompanied by an adult. \nIt’s held in the Preserve. Meet in front of the Nature Center.\nThis is an outdoor event.
URL:https://www.friendsofmadronamarsh.com/event/tyke-hike/2029-06-07/
LOCATION:Madrona Marsh Nature Center\, 3201 Plaza Del Amo\, Torrance\, CA\, 90503\, United States
CATEGORIES:Docent Tours,Kids Programs
ATTACH;FMTTYPE=image/jpeg:https://www.friendsofmadronamarsh.com/wp-content/uploads/2025/11/docent-opp.jpg
END:VEVENT
BEGIN:VEVENT
DTSTART;TZID=America/Los_Angeles:20290608T100000
DTEND;TZID=America/Los_Angeles:20290608T120000
DTSTAMP:20260419T092428
CREATED:20260107T195358Z
LAST-MODIFIED:20260227T202426Z
UID:10003000-1875607200-1875614400@www.friendsofmadronamarsh.com
SUMMARY:Friday Fun
DESCRIPTION:Friday Fun is a hands-on program for preschoolers\, age 3-6\, and their parents or guardians. The program is offered at no charge every Friday. The program will incorporate story time\, science\, art\, and a tour emphasizing the chosen topic. \n\n\n\nSome weeks\, there will also be potting or other activities. The topics emphasize respect for all living things and prepare the children (and parents) to be good stewards of the planet. \n\n\n\nPre-registration is required. \n\n\n\nRegistration for the Friday event begins on Tuesday at 10:00 am of the same week.Call the Nature Center to register at (310)782-3989. \n\n\n\nSpace is limited to the first 20 people who sign up \n\n\n\n\n\n\n\n\n\n\n\n\n\n\n\n 
URL:https://www.friendsofmadronamarsh.com/event/fridayfun-3/2029-06-08/
LOCATION:Madrona Marsh Nature Center\, 3201 Plaza Del Amo\, Torrance\, CA\, 90503\, United States
CATEGORIES:Kids Programs
ATTACH;FMTTYPE=image/jpeg:https://www.friendsofmadronamarsh.com/wp-content/uploads/2025/10/kids-den-friday-fun-cindy-kids-madrona-marsh.jpg
END:VEVENT
BEGIN:VEVENT
DTSTART;VALUE=DATE:20290610
DTEND;VALUE=DATE:20290611
DTSTAMP:20260419T092428
CREATED:20251217T000044Z
LAST-MODIFIED:20251217T000215Z
UID:10002641-1875744000-1875830399@www.friendsofmadronamarsh.com
SUMMARY:Closed - Preserve & Nature Center
DESCRIPTION:
URL:https://www.friendsofmadronamarsh.com/event/preserve-nature-center-closed-2/2029-06-10/
LOCATION:Madrona Marsh Nature Center\, 3201 Plaza Del Amo\, Torrance\, CA\, 90503\, United States
END:VEVENT
BEGIN:VEVENT
DTSTART;VALUE=DATE:20290611
DTEND;VALUE=DATE:20290612
DTSTAMP:20260419T092428
CREATED:20251217T000044Z
LAST-MODIFIED:20251217T000215Z
UID:10002642-1875830400-1875916799@www.friendsofmadronamarsh.com
SUMMARY:Closed - Preserve & Nature Center
DESCRIPTION:
URL:https://www.friendsofmadronamarsh.com/event/preserve-nature-center-closed-2/2029-06-11/
LOCATION:Madrona Marsh Nature Center\, 3201 Plaza Del Amo\, Torrance\, CA\, 90503\, United States
END:VEVENT
BEGIN:VEVENT
DTSTART;TZID=America/Los_Angeles:20290614T103000
DTEND;TZID=America/Los_Angeles:20290614T120000
DTSTAMP:20260419T092428
CREATED:20260205T214721Z
LAST-MODIFIED:20260205T214721Z
UID:10003301-1876127400-1876132800@www.friendsofmadronamarsh.com
SUMMARY:Nature Storytime
DESCRIPTION:Nature Storytime is a hands-on program for preschoolers ages 2-5 years. \nExplore the wonders of Madrona Marsh through engaging stories and educational learning activities.  Each program is designed to teach the importance of nature in a caring\, nurturing environment. \nPre-registration is required. Call the Nature Center to register at (310)782-3989. \nMust be accompanied by an adult.
URL:https://www.friendsofmadronamarsh.com/event/nature-storytime-3/2029-06-14/
LOCATION:Madrona Marsh Nature Center\, 3201 Plaza Del Amo\, Torrance\, CA\, 90503\, United States
CATEGORIES:Featured Events,Kids Programs
ATTACH;FMTTYPE=image/jpeg:https://www.friendsofmadronamarsh.com/wp-content/uploads/2026/01/Vasi-at-Nature-Storytime.jpeg
END:VEVENT
BEGIN:VEVENT
DTSTART;TZID=America/Los_Angeles:20290615T100000
DTEND;TZID=America/Los_Angeles:20290615T120000
DTSTAMP:20260419T092428
CREATED:20260107T195358Z
LAST-MODIFIED:20260227T202426Z
UID:10003001-1876212000-1876219200@www.friendsofmadronamarsh.com
SUMMARY:Friday Fun
DESCRIPTION:Friday Fun is a hands-on program for preschoolers\, age 3-6\, and their parents or guardians. The program is offered at no charge every Friday. The program will incorporate story time\, science\, art\, and a tour emphasizing the chosen topic. \n\n\n\nSome weeks\, there will also be potting or other activities. The topics emphasize respect for all living things and prepare the children (and parents) to be good stewards of the planet. \n\n\n\nPre-registration is required. \n\n\n\nRegistration for the Friday event begins on Tuesday at 10:00 am of the same week.Call the Nature Center to register at (310)782-3989. \n\n\n\nSpace is limited to the first 20 people who sign up \n\n\n\n\n\n\n\n\n\n\n\n\n\n\n\n 
URL:https://www.friendsofmadronamarsh.com/event/fridayfun-3/2029-06-15/
LOCATION:Madrona Marsh Nature Center\, 3201 Plaza Del Amo\, Torrance\, CA\, 90503\, United States
CATEGORIES:Kids Programs
ATTACH;FMTTYPE=image/jpeg:https://www.friendsofmadronamarsh.com/wp-content/uploads/2025/10/kids-den-friday-fun-cindy-kids-madrona-marsh.jpg
END:VEVENT
BEGIN:VEVENT
DTSTART;TZID=America/Los_Angeles:20290616T090000
DTEND;TZID=America/Los_Angeles:20290616T110000
DTSTAMP:20260419T092428
CREATED:20251104T013240Z
LAST-MODIFIED:20251104T014019Z
UID:10001305-1876294800-1876302000@www.friendsofmadronamarsh.com
SUMMARY:Henrietta Basin Walk
DESCRIPTION:Join our docent-led walk around the Henrietta Basin on the 3rd Saturday of every month and learn about the City’s Stormwater Enhancement Program. Observe birds and other wildlife living in and benefitting from the basin’s open habitat space. \nOpen to all ages! Bring binoculars and wear closed-toed shoes. \nMeet at the Basin’s north entrance on Henrietta St. \nRegistration is encouraged\, but not required. Please call the Nature Center (310) 782-3989 to register. \nHenrietta Basin Walk event page (Facebook)
URL:https://www.friendsofmadronamarsh.com/event/henrietta-basin-walk/2029-06-16/
LOCATION:Henrietta Basin\, 20501-20599 Henrietta St\, Torrance\, CA\, 90503
ATTACH;FMTTYPE=image/jpeg:https://www.friendsofmadronamarsh.com/wp-content/uploads/2025/11/Henrietta-Basin-Walk.jpg
END:VEVENT
BEGIN:VEVENT
DTSTART;VALUE=DATE:20290617
DTEND;VALUE=DATE:20290618
DTSTAMP:20260419T092428
CREATED:20251217T000044Z
LAST-MODIFIED:20251217T000215Z
UID:10002643-1876348800-1876435199@www.friendsofmadronamarsh.com
SUMMARY:Closed - Preserve & Nature Center
DESCRIPTION:
URL:https://www.friendsofmadronamarsh.com/event/preserve-nature-center-closed-2/2029-06-17/
LOCATION:Madrona Marsh Nature Center\, 3201 Plaza Del Amo\, Torrance\, CA\, 90503\, United States
END:VEVENT
BEGIN:VEVENT
DTSTART;VALUE=DATE:20290618
DTEND;VALUE=DATE:20290619
DTSTAMP:20260419T092428
CREATED:20251217T000044Z
LAST-MODIFIED:20251217T000215Z
UID:10002644-1876435200-1876521599@www.friendsofmadronamarsh.com
SUMMARY:Closed - Preserve & Nature Center
DESCRIPTION:
URL:https://www.friendsofmadronamarsh.com/event/preserve-nature-center-closed-2/2029-06-18/
LOCATION:Madrona Marsh Nature Center\, 3201 Plaza Del Amo\, Torrance\, CA\, 90503\, United States
END:VEVENT
BEGIN:VEVENT
DTSTART;TZID=America/Los_Angeles:20290622T100000
DTEND;TZID=America/Los_Angeles:20290622T120000
DTSTAMP:20260419T092428
CREATED:20260107T195358Z
LAST-MODIFIED:20260227T202426Z
UID:10003002-1876816800-1876824000@www.friendsofmadronamarsh.com
SUMMARY:Friday Fun
DESCRIPTION:Friday Fun is a hands-on program for preschoolers\, age 3-6\, and their parents or guardians. The program is offered at no charge every Friday. The program will incorporate story time\, science\, art\, and a tour emphasizing the chosen topic. \n\n\n\nSome weeks\, there will also be potting or other activities. The topics emphasize respect for all living things and prepare the children (and parents) to be good stewards of the planet. \n\n\n\nPre-registration is required. \n\n\n\nRegistration for the Friday event begins on Tuesday at 10:00 am of the same week.Call the Nature Center to register at (310)782-3989. \n\n\n\nSpace is limited to the first 20 people who sign up \n\n\n\n\n\n\n\n\n\n\n\n\n\n\n\n 
URL:https://www.friendsofmadronamarsh.com/event/fridayfun-3/2029-06-22/
LOCATION:Madrona Marsh Nature Center\, 3201 Plaza Del Amo\, Torrance\, CA\, 90503\, United States
CATEGORIES:Kids Programs
ATTACH;FMTTYPE=image/jpeg:https://www.friendsofmadronamarsh.com/wp-content/uploads/2025/10/kids-den-friday-fun-cindy-kids-madrona-marsh.jpg
END:VEVENT
BEGIN:VEVENT
DTSTART;VALUE=DATE:20290624
DTEND;VALUE=DATE:20290625
DTSTAMP:20260419T092428
CREATED:20251217T000044Z
LAST-MODIFIED:20251217T000215Z
UID:10002645-1876953600-1877039999@www.friendsofmadronamarsh.com
SUMMARY:Closed - Preserve & Nature Center
DESCRIPTION:
URL:https://www.friendsofmadronamarsh.com/event/preserve-nature-center-closed-2/2029-06-24/
LOCATION:Madrona Marsh Nature Center\, 3201 Plaza Del Amo\, Torrance\, CA\, 90503\, United States
END:VEVENT
BEGIN:VEVENT
DTSTART;VALUE=DATE:20290625
DTEND;VALUE=DATE:20290626
DTSTAMP:20260419T092428
CREATED:20251217T000044Z
LAST-MODIFIED:20251217T000215Z
UID:10002646-1877040000-1877126399@www.friendsofmadronamarsh.com
SUMMARY:Closed - Preserve & Nature Center
DESCRIPTION:
URL:https://www.friendsofmadronamarsh.com/event/preserve-nature-center-closed-2/2029-06-25/
LOCATION:Madrona Marsh Nature Center\, 3201 Plaza Del Amo\, Torrance\, CA\, 90503\, United States
END:VEVENT
BEGIN:VEVENT
DTSTART;TZID=America/Los_Angeles:20290629T100000
DTEND;TZID=America/Los_Angeles:20290629T120000
DTSTAMP:20260419T092428
CREATED:20260107T195358Z
LAST-MODIFIED:20260227T202426Z
UID:10003003-1877421600-1877428800@www.friendsofmadronamarsh.com
SUMMARY:Friday Fun
DESCRIPTION:Friday Fun is a hands-on program for preschoolers\, age 3-6\, and their parents or guardians. The program is offered at no charge every Friday. The program will incorporate story time\, science\, art\, and a tour emphasizing the chosen topic. \n\n\n\nSome weeks\, there will also be potting or other activities. The topics emphasize respect for all living things and prepare the children (and parents) to be good stewards of the planet. \n\n\n\nPre-registration is required. \n\n\n\nRegistration for the Friday event begins on Tuesday at 10:00 am of the same week.Call the Nature Center to register at (310)782-3989. \n\n\n\nSpace is limited to the first 20 people who sign up \n\n\n\n\n\n\n\n\n\n\n\n\n\n\n\n 
URL:https://www.friendsofmadronamarsh.com/event/fridayfun-3/2029-06-29/
LOCATION:Madrona Marsh Nature Center\, 3201 Plaza Del Amo\, Torrance\, CA\, 90503\, United States
CATEGORIES:Kids Programs
ATTACH;FMTTYPE=image/jpeg:https://www.friendsofmadronamarsh.com/wp-content/uploads/2025/10/kids-den-friday-fun-cindy-kids-madrona-marsh.jpg
END:VEVENT
BEGIN:VEVENT
DTSTART;VALUE=DATE:20290701
DTEND;VALUE=DATE:20290702
DTSTAMP:20260419T092428
CREATED:20251217T000044Z
LAST-MODIFIED:20251217T000215Z
UID:10002647-1877558400-1877644799@www.friendsofmadronamarsh.com
SUMMARY:Closed - Preserve & Nature Center
DESCRIPTION:
URL:https://www.friendsofmadronamarsh.com/event/preserve-nature-center-closed-2/2029-07-01/
LOCATION:Madrona Marsh Nature Center\, 3201 Plaza Del Amo\, Torrance\, CA\, 90503\, United States
END:VEVENT
BEGIN:VEVENT
DTSTART;VALUE=DATE:20290702
DTEND;VALUE=DATE:20290703
DTSTAMP:20260419T092428
CREATED:20251217T000044Z
LAST-MODIFIED:20251217T000215Z
UID:10002648-1877644800-1877731199@www.friendsofmadronamarsh.com
SUMMARY:Closed - Preserve & Nature Center
DESCRIPTION:
URL:https://www.friendsofmadronamarsh.com/event/preserve-nature-center-closed-2/2029-07-02/
LOCATION:Madrona Marsh Nature Center\, 3201 Plaza Del Amo\, Torrance\, CA\, 90503\, United States
END:VEVENT
BEGIN:VEVENT
DTSTART;TZID=America/Los_Angeles:20290705T100000
DTEND;TZID=America/Los_Angeles:20290705T113000
DTSTAMP:20260419T092428
CREATED:20251104T031938Z
LAST-MODIFIED:20260111T210108Z
UID:10001367-1877940000-1877945400@www.friendsofmadronamarsh.com
SUMMARY:Tyke Hike
DESCRIPTION:Bring your young child (ages 0 – 6 yr.) for a walk around the Preserve and an introduction to nature. Listen to birds\, look for frogs\, and get refreshed in the sun and our cool breeze. \nChildren must be accompanied by an adult. \nIt’s held in the Preserve. Meet in front of the Nature Center.\nThis is an outdoor event.
URL:https://www.friendsofmadronamarsh.com/event/tyke-hike/2029-07-05/
LOCATION:Madrona Marsh Nature Center\, 3201 Plaza Del Amo\, Torrance\, CA\, 90503\, United States
CATEGORIES:Docent Tours,Kids Programs
ATTACH;FMTTYPE=image/jpeg:https://www.friendsofmadronamarsh.com/wp-content/uploads/2025/11/docent-opp.jpg
END:VEVENT
BEGIN:VEVENT
DTSTART;TZID=America/Los_Angeles:20290706T100000
DTEND;TZID=America/Los_Angeles:20290706T120000
DTSTAMP:20260419T092428
CREATED:20260107T195358Z
LAST-MODIFIED:20260227T202426Z
UID:10003004-1878026400-1878033600@www.friendsofmadronamarsh.com
SUMMARY:Friday Fun
DESCRIPTION:Friday Fun is a hands-on program for preschoolers\, age 3-6\, and their parents or guardians. The program is offered at no charge every Friday. The program will incorporate story time\, science\, art\, and a tour emphasizing the chosen topic. \n\n\n\nSome weeks\, there will also be potting or other activities. The topics emphasize respect for all living things and prepare the children (and parents) to be good stewards of the planet. \n\n\n\nPre-registration is required. \n\n\n\nRegistration for the Friday event begins on Tuesday at 10:00 am of the same week.Call the Nature Center to register at (310)782-3989. \n\n\n\nSpace is limited to the first 20 people who sign up \n\n\n\n\n\n\n\n\n\n\n\n\n\n\n\n 
URL:https://www.friendsofmadronamarsh.com/event/fridayfun-3/2029-07-06/
LOCATION:Madrona Marsh Nature Center\, 3201 Plaza Del Amo\, Torrance\, CA\, 90503\, United States
CATEGORIES:Kids Programs
ATTACH;FMTTYPE=image/jpeg:https://www.friendsofmadronamarsh.com/wp-content/uploads/2025/10/kids-den-friday-fun-cindy-kids-madrona-marsh.jpg
END:VEVENT
BEGIN:VEVENT
DTSTART;VALUE=DATE:20290708
DTEND;VALUE=DATE:20290709
DTSTAMP:20260419T092428
CREATED:20251217T000044Z
LAST-MODIFIED:20251217T000215Z
UID:10002649-1878163200-1878249599@www.friendsofmadronamarsh.com
SUMMARY:Closed - Preserve & Nature Center
DESCRIPTION:
URL:https://www.friendsofmadronamarsh.com/event/preserve-nature-center-closed-2/2029-07-08/
LOCATION:Madrona Marsh Nature Center\, 3201 Plaza Del Amo\, Torrance\, CA\, 90503\, United States
END:VEVENT
BEGIN:VEVENT
DTSTART;VALUE=DATE:20290709
DTEND;VALUE=DATE:20290710
DTSTAMP:20260419T092428
CREATED:20251217T000044Z
LAST-MODIFIED:20251217T000215Z
UID:10002650-1878249600-1878335999@www.friendsofmadronamarsh.com
SUMMARY:Closed - Preserve & Nature Center
DESCRIPTION:
URL:https://www.friendsofmadronamarsh.com/event/preserve-nature-center-closed-2/2029-07-09/
LOCATION:Madrona Marsh Nature Center\, 3201 Plaza Del Amo\, Torrance\, CA\, 90503\, United States
END:VEVENT
BEGIN:VEVENT
DTSTART;TZID=America/Los_Angeles:20290712T103000
DTEND;TZID=America/Los_Angeles:20290712T120000
DTSTAMP:20260419T092428
CREATED:20260205T214721Z
LAST-MODIFIED:20260205T214721Z
UID:10003302-1878546600-1878552000@www.friendsofmadronamarsh.com
SUMMARY:Nature Storytime
DESCRIPTION:Nature Storytime is a hands-on program for preschoolers ages 2-5 years. \nExplore the wonders of Madrona Marsh through engaging stories and educational learning activities.  Each program is designed to teach the importance of nature in a caring\, nurturing environment. \nPre-registration is required. Call the Nature Center to register at (310)782-3989. \nMust be accompanied by an adult.
URL:https://www.friendsofmadronamarsh.com/event/nature-storytime-3/2029-07-12/
LOCATION:Madrona Marsh Nature Center\, 3201 Plaza Del Amo\, Torrance\, CA\, 90503\, United States
CATEGORIES:Featured Events,Kids Programs
ATTACH;FMTTYPE=image/jpeg:https://www.friendsofmadronamarsh.com/wp-content/uploads/2026/01/Vasi-at-Nature-Storytime.jpeg
END:VEVENT
BEGIN:VEVENT
DTSTART;TZID=America/Los_Angeles:20290713T100000
DTEND;TZID=America/Los_Angeles:20290713T120000
DTSTAMP:20260419T092428
CREATED:20260107T195358Z
LAST-MODIFIED:20260227T202426Z
UID:10003005-1878631200-1878638400@www.friendsofmadronamarsh.com
SUMMARY:Friday Fun
DESCRIPTION:Friday Fun is a hands-on program for preschoolers\, age 3-6\, and their parents or guardians. The program is offered at no charge every Friday. The program will incorporate story time\, science\, art\, and a tour emphasizing the chosen topic. \n\n\n\nSome weeks\, there will also be potting or other activities. The topics emphasize respect for all living things and prepare the children (and parents) to be good stewards of the planet. \n\n\n\nPre-registration is required. \n\n\n\nRegistration for the Friday event begins on Tuesday at 10:00 am of the same week.Call the Nature Center to register at (310)782-3989. \n\n\n\nSpace is limited to the first 20 people who sign up \n\n\n\n\n\n\n\n\n\n\n\n\n\n\n\n 
URL:https://www.friendsofmadronamarsh.com/event/fridayfun-3/2029-07-13/
LOCATION:Madrona Marsh Nature Center\, 3201 Plaza Del Amo\, Torrance\, CA\, 90503\, United States
CATEGORIES:Kids Programs
ATTACH;FMTTYPE=image/jpeg:https://www.friendsofmadronamarsh.com/wp-content/uploads/2025/10/kids-den-friday-fun-cindy-kids-madrona-marsh.jpg
END:VEVENT
BEGIN:VEVENT
DTSTART;VALUE=DATE:20290715
DTEND;VALUE=DATE:20290716
DTSTAMP:20260419T092428
CREATED:20251217T000044Z
LAST-MODIFIED:20251217T000215Z
UID:10002651-1878768000-1878854399@www.friendsofmadronamarsh.com
SUMMARY:Closed - Preserve & Nature Center
DESCRIPTION:
URL:https://www.friendsofmadronamarsh.com/event/preserve-nature-center-closed-2/2029-07-15/
LOCATION:Madrona Marsh Nature Center\, 3201 Plaza Del Amo\, Torrance\, CA\, 90503\, United States
END:VEVENT
BEGIN:VEVENT
DTSTART;VALUE=DATE:20290716
DTEND;VALUE=DATE:20290717
DTSTAMP:20260419T092428
CREATED:20251217T000044Z
LAST-MODIFIED:20251217T000215Z
UID:10002652-1878854400-1878940799@www.friendsofmadronamarsh.com
SUMMARY:Closed - Preserve & Nature Center
DESCRIPTION:
URL:https://www.friendsofmadronamarsh.com/event/preserve-nature-center-closed-2/2029-07-16/
LOCATION:Madrona Marsh Nature Center\, 3201 Plaza Del Amo\, Torrance\, CA\, 90503\, United States
END:VEVENT
BEGIN:VEVENT
DTSTART;TZID=America/Los_Angeles:20290720T100000
DTEND;TZID=America/Los_Angeles:20290720T120000
DTSTAMP:20260419T092428
CREATED:20260107T195358Z
LAST-MODIFIED:20260227T202426Z
UID:10003006-1879236000-1879243200@www.friendsofmadronamarsh.com
SUMMARY:Friday Fun
DESCRIPTION:Friday Fun is a hands-on program for preschoolers\, age 3-6\, and their parents or guardians. The program is offered at no charge every Friday. The program will incorporate story time\, science\, art\, and a tour emphasizing the chosen topic. \n\n\n\nSome weeks\, there will also be potting or other activities. The topics emphasize respect for all living things and prepare the children (and parents) to be good stewards of the planet. \n\n\n\nPre-registration is required. \n\n\n\nRegistration for the Friday event begins on Tuesday at 10:00 am of the same week.Call the Nature Center to register at (310)782-3989. \n\n\n\nSpace is limited to the first 20 people who sign up \n\n\n\n\n\n\n\n\n\n\n\n\n\n\n\n 
URL:https://www.friendsofmadronamarsh.com/event/fridayfun-3/2029-07-20/
LOCATION:Madrona Marsh Nature Center\, 3201 Plaza Del Amo\, Torrance\, CA\, 90503\, United States
CATEGORIES:Kids Programs
ATTACH;FMTTYPE=image/jpeg:https://www.friendsofmadronamarsh.com/wp-content/uploads/2025/10/kids-den-friday-fun-cindy-kids-madrona-marsh.jpg
END:VEVENT
BEGIN:VEVENT
DTSTART;TZID=America/Los_Angeles:20290721T090000
DTEND;TZID=America/Los_Angeles:20290721T110000
DTSTAMP:20260419T092428
CREATED:20251104T013240Z
LAST-MODIFIED:20251104T014019Z
UID:10001306-1879318800-1879326000@www.friendsofmadronamarsh.com
SUMMARY:Henrietta Basin Walk
DESCRIPTION:Join our docent-led walk around the Henrietta Basin on the 3rd Saturday of every month and learn about the City’s Stormwater Enhancement Program. Observe birds and other wildlife living in and benefitting from the basin’s open habitat space. \nOpen to all ages! Bring binoculars and wear closed-toed shoes. \nMeet at the Basin’s north entrance on Henrietta St. \nRegistration is encouraged\, but not required. Please call the Nature Center (310) 782-3989 to register. \nHenrietta Basin Walk event page (Facebook)
URL:https://www.friendsofmadronamarsh.com/event/henrietta-basin-walk/2029-07-21/
LOCATION:Henrietta Basin\, 20501-20599 Henrietta St\, Torrance\, CA\, 90503
ATTACH;FMTTYPE=image/jpeg:https://www.friendsofmadronamarsh.com/wp-content/uploads/2025/11/Henrietta-Basin-Walk.jpg
END:VEVENT
BEGIN:VEVENT
DTSTART;VALUE=DATE:20290722
DTEND;VALUE=DATE:20290723
DTSTAMP:20260419T092428
CREATED:20251217T000044Z
LAST-MODIFIED:20251217T000215Z
UID:10002653-1879372800-1879459199@www.friendsofmadronamarsh.com
SUMMARY:Closed - Preserve & Nature Center
DESCRIPTION:
URL:https://www.friendsofmadronamarsh.com/event/preserve-nature-center-closed-2/2029-07-22/
LOCATION:Madrona Marsh Nature Center\, 3201 Plaza Del Amo\, Torrance\, CA\, 90503\, United States
END:VEVENT
END:VCALENDAR