BEGIN:VCALENDAR
VERSION:2.0
PRODID:-//Friends of Madrona Marsh - ECPv6.15.20//NONSGML v1.0//EN
CALSCALE:GREGORIAN
METHOD:PUBLISH
X-WR-CALNAME:Friends of Madrona Marsh
X-ORIGINAL-URL:https://www.friendsofmadronamarsh.com
X-WR-CALDESC:Events for Friends of Madrona Marsh
REFRESH-INTERVAL;VALUE=DURATION:PT1H
X-Robots-Tag:noindex
X-PUBLISHED-TTL:PT1H
BEGIN:VTIMEZONE
TZID:America/Los_Angeles
BEGIN:DAYLIGHT
TZOFFSETFROM:-0800
TZOFFSETTO:-0700
TZNAME:PDT
DTSTART:20280312T100000
END:DAYLIGHT
BEGIN:STANDARD
TZOFFSETFROM:-0700
TZOFFSETTO:-0800
TZNAME:PST
DTSTART:20281105T090000
END:STANDARD
BEGIN:DAYLIGHT
TZOFFSETFROM:-0800
TZOFFSETTO:-0700
TZNAME:PDT
DTSTART:20290311T100000
END:DAYLIGHT
BEGIN:STANDARD
TZOFFSETFROM:-0700
TZOFFSETTO:-0800
TZNAME:PST
DTSTART:20291104T090000
END:STANDARD
BEGIN:DAYLIGHT
TZOFFSETFROM:-0800
TZOFFSETTO:-0700
TZNAME:PDT
DTSTART:20300310T100000
END:DAYLIGHT
BEGIN:STANDARD
TZOFFSETFROM:-0700
TZOFFSETTO:-0800
TZNAME:PST
DTSTART:20301103T090000
END:STANDARD
END:VTIMEZONE
BEGIN:VEVENT
DTSTART;TZID=America/Los_Angeles:20290713T100000
DTEND;TZID=America/Los_Angeles:20290713T120000
DTSTAMP:20260419T122308
CREATED:20260107T195358Z
LAST-MODIFIED:20260227T202426Z
UID:10003005-1878631200-1878638400@www.friendsofmadronamarsh.com
SUMMARY:Friday Fun
DESCRIPTION:Friday Fun is a hands-on program for preschoolers\, age 3-6\, and their parents or guardians. The program is offered at no charge every Friday. The program will incorporate story time\, science\, art\, and a tour emphasizing the chosen topic. \n\n\n\nSome weeks\, there will also be potting or other activities. The topics emphasize respect for all living things and prepare the children (and parents) to be good stewards of the planet. \n\n\n\nPre-registration is required. \n\n\n\nRegistration for the Friday event begins on Tuesday at 10:00 am of the same week.Call the Nature Center to register at (310)782-3989. \n\n\n\nSpace is limited to the first 20 people who sign up \n\n\n\n\n\n\n\n\n\n\n\n\n\n\n\n 
URL:https://www.friendsofmadronamarsh.com/event/fridayfun-3/2029-07-13/
LOCATION:Madrona Marsh Nature Center\, 3201 Plaza Del Amo\, Torrance\, CA\, 90503\, United States
CATEGORIES:Kids Programs
ATTACH;FMTTYPE=image/jpeg:https://www.friendsofmadronamarsh.com/wp-content/uploads/2025/10/kids-den-friday-fun-cindy-kids-madrona-marsh.jpg
END:VEVENT
BEGIN:VEVENT
DTSTART;VALUE=DATE:20290715
DTEND;VALUE=DATE:20290716
DTSTAMP:20260419T122308
CREATED:20251217T000044Z
LAST-MODIFIED:20251217T000215Z
UID:10002651-1878768000-1878854399@www.friendsofmadronamarsh.com
SUMMARY:Closed - Preserve & Nature Center
DESCRIPTION:
URL:https://www.friendsofmadronamarsh.com/event/preserve-nature-center-closed-2/2029-07-15/
LOCATION:Madrona Marsh Nature Center\, 3201 Plaza Del Amo\, Torrance\, CA\, 90503\, United States
END:VEVENT
BEGIN:VEVENT
DTSTART;VALUE=DATE:20290716
DTEND;VALUE=DATE:20290717
DTSTAMP:20260419T122308
CREATED:20251217T000044Z
LAST-MODIFIED:20251217T000215Z
UID:10002652-1878854400-1878940799@www.friendsofmadronamarsh.com
SUMMARY:Closed - Preserve & Nature Center
DESCRIPTION:
URL:https://www.friendsofmadronamarsh.com/event/preserve-nature-center-closed-2/2029-07-16/
LOCATION:Madrona Marsh Nature Center\, 3201 Plaza Del Amo\, Torrance\, CA\, 90503\, United States
END:VEVENT
BEGIN:VEVENT
DTSTART;TZID=America/Los_Angeles:20290720T100000
DTEND;TZID=America/Los_Angeles:20290720T120000
DTSTAMP:20260419T122308
CREATED:20260107T195358Z
LAST-MODIFIED:20260227T202426Z
UID:10003006-1879236000-1879243200@www.friendsofmadronamarsh.com
SUMMARY:Friday Fun
DESCRIPTION:Friday Fun is a hands-on program for preschoolers\, age 3-6\, and their parents or guardians. The program is offered at no charge every Friday. The program will incorporate story time\, science\, art\, and a tour emphasizing the chosen topic. \n\n\n\nSome weeks\, there will also be potting or other activities. The topics emphasize respect for all living things and prepare the children (and parents) to be good stewards of the planet. \n\n\n\nPre-registration is required. \n\n\n\nRegistration for the Friday event begins on Tuesday at 10:00 am of the same week.Call the Nature Center to register at (310)782-3989. \n\n\n\nSpace is limited to the first 20 people who sign up \n\n\n\n\n\n\n\n\n\n\n\n\n\n\n\n 
URL:https://www.friendsofmadronamarsh.com/event/fridayfun-3/2029-07-20/
LOCATION:Madrona Marsh Nature Center\, 3201 Plaza Del Amo\, Torrance\, CA\, 90503\, United States
CATEGORIES:Kids Programs
ATTACH;FMTTYPE=image/jpeg:https://www.friendsofmadronamarsh.com/wp-content/uploads/2025/10/kids-den-friday-fun-cindy-kids-madrona-marsh.jpg
END:VEVENT
BEGIN:VEVENT
DTSTART;TZID=America/Los_Angeles:20290721T090000
DTEND;TZID=America/Los_Angeles:20290721T110000
DTSTAMP:20260419T122308
CREATED:20251104T013240Z
LAST-MODIFIED:20251104T014019Z
UID:10001306-1879318800-1879326000@www.friendsofmadronamarsh.com
SUMMARY:Henrietta Basin Walk
DESCRIPTION:Join our docent-led walk around the Henrietta Basin on the 3rd Saturday of every month and learn about the City’s Stormwater Enhancement Program. Observe birds and other wildlife living in and benefitting from the basin’s open habitat space. \nOpen to all ages! Bring binoculars and wear closed-toed shoes. \nMeet at the Basin’s north entrance on Henrietta St. \nRegistration is encouraged\, but not required. Please call the Nature Center (310) 782-3989 to register. \nHenrietta Basin Walk event page (Facebook)
URL:https://www.friendsofmadronamarsh.com/event/henrietta-basin-walk/2029-07-21/
LOCATION:Henrietta Basin\, 20501-20599 Henrietta St\, Torrance\, CA\, 90503
ATTACH;FMTTYPE=image/jpeg:https://www.friendsofmadronamarsh.com/wp-content/uploads/2025/11/Henrietta-Basin-Walk.jpg
END:VEVENT
BEGIN:VEVENT
DTSTART;VALUE=DATE:20290722
DTEND;VALUE=DATE:20290723
DTSTAMP:20260419T122308
CREATED:20251217T000044Z
LAST-MODIFIED:20251217T000215Z
UID:10002653-1879372800-1879459199@www.friendsofmadronamarsh.com
SUMMARY:Closed - Preserve & Nature Center
DESCRIPTION:
URL:https://www.friendsofmadronamarsh.com/event/preserve-nature-center-closed-2/2029-07-22/
LOCATION:Madrona Marsh Nature Center\, 3201 Plaza Del Amo\, Torrance\, CA\, 90503\, United States
END:VEVENT
BEGIN:VEVENT
DTSTART;VALUE=DATE:20290723
DTEND;VALUE=DATE:20290724
DTSTAMP:20260419T122308
CREATED:20251217T000044Z
LAST-MODIFIED:20251217T000215Z
UID:10002654-1879459200-1879545599@www.friendsofmadronamarsh.com
SUMMARY:Closed - Preserve & Nature Center
DESCRIPTION:
URL:https://www.friendsofmadronamarsh.com/event/preserve-nature-center-closed-2/2029-07-23/
LOCATION:Madrona Marsh Nature Center\, 3201 Plaza Del Amo\, Torrance\, CA\, 90503\, United States
END:VEVENT
BEGIN:VEVENT
DTSTART;TZID=America/Los_Angeles:20290727T100000
DTEND;TZID=America/Los_Angeles:20290727T120000
DTSTAMP:20260419T122308
CREATED:20260107T195358Z
LAST-MODIFIED:20260227T202426Z
UID:10003007-1879840800-1879848000@www.friendsofmadronamarsh.com
SUMMARY:Friday Fun
DESCRIPTION:Friday Fun is a hands-on program for preschoolers\, age 3-6\, and their parents or guardians. The program is offered at no charge every Friday. The program will incorporate story time\, science\, art\, and a tour emphasizing the chosen topic. \n\n\n\nSome weeks\, there will also be potting or other activities. The topics emphasize respect for all living things and prepare the children (and parents) to be good stewards of the planet. \n\n\n\nPre-registration is required. \n\n\n\nRegistration for the Friday event begins on Tuesday at 10:00 am of the same week.Call the Nature Center to register at (310)782-3989. \n\n\n\nSpace is limited to the first 20 people who sign up \n\n\n\n\n\n\n\n\n\n\n\n\n\n\n\n 
URL:https://www.friendsofmadronamarsh.com/event/fridayfun-3/2029-07-27/
LOCATION:Madrona Marsh Nature Center\, 3201 Plaza Del Amo\, Torrance\, CA\, 90503\, United States
CATEGORIES:Kids Programs
ATTACH;FMTTYPE=image/jpeg:https://www.friendsofmadronamarsh.com/wp-content/uploads/2025/10/kids-den-friday-fun-cindy-kids-madrona-marsh.jpg
END:VEVENT
BEGIN:VEVENT
DTSTART;VALUE=DATE:20290729
DTEND;VALUE=DATE:20290730
DTSTAMP:20260419T122308
CREATED:20251217T000044Z
LAST-MODIFIED:20251217T000215Z
UID:10002655-1879977600-1880063999@www.friendsofmadronamarsh.com
SUMMARY:Closed - Preserve & Nature Center
DESCRIPTION:
URL:https://www.friendsofmadronamarsh.com/event/preserve-nature-center-closed-2/2029-07-29/
LOCATION:Madrona Marsh Nature Center\, 3201 Plaza Del Amo\, Torrance\, CA\, 90503\, United States
END:VEVENT
BEGIN:VEVENT
DTSTART;VALUE=DATE:20290730
DTEND;VALUE=DATE:20290731
DTSTAMP:20260419T122308
CREATED:20251217T000044Z
LAST-MODIFIED:20251217T000215Z
UID:10002656-1880064000-1880150399@www.friendsofmadronamarsh.com
SUMMARY:Closed - Preserve & Nature Center
DESCRIPTION:
URL:https://www.friendsofmadronamarsh.com/event/preserve-nature-center-closed-2/2029-07-30/
LOCATION:Madrona Marsh Nature Center\, 3201 Plaza Del Amo\, Torrance\, CA\, 90503\, United States
END:VEVENT
BEGIN:VEVENT
DTSTART;TZID=America/Los_Angeles:20290802T100000
DTEND;TZID=America/Los_Angeles:20290802T113000
DTSTAMP:20260419T122308
CREATED:20251104T031938Z
LAST-MODIFIED:20260111T210108Z
UID:10001368-1880359200-1880364600@www.friendsofmadronamarsh.com
SUMMARY:Tyke Hike
DESCRIPTION:Bring your young child (ages 0 – 6 yr.) for a walk around the Preserve and an introduction to nature. Listen to birds\, look for frogs\, and get refreshed in the sun and our cool breeze. \nChildren must be accompanied by an adult. \nIt’s held in the Preserve. Meet in front of the Nature Center.\nThis is an outdoor event.
URL:https://www.friendsofmadronamarsh.com/event/tyke-hike/2029-08-02/
LOCATION:Madrona Marsh Nature Center\, 3201 Plaza Del Amo\, Torrance\, CA\, 90503\, United States
CATEGORIES:Docent Tours,Kids Programs
ATTACH;FMTTYPE=image/jpeg:https://www.friendsofmadronamarsh.com/wp-content/uploads/2025/11/docent-opp.jpg
END:VEVENT
BEGIN:VEVENT
DTSTART;TZID=America/Los_Angeles:20290803T100000
DTEND;TZID=America/Los_Angeles:20290803T120000
DTSTAMP:20260419T122308
CREATED:20260107T195358Z
LAST-MODIFIED:20260227T202426Z
UID:10003008-1880445600-1880452800@www.friendsofmadronamarsh.com
SUMMARY:Friday Fun
DESCRIPTION:Friday Fun is a hands-on program for preschoolers\, age 3-6\, and their parents or guardians. The program is offered at no charge every Friday. The program will incorporate story time\, science\, art\, and a tour emphasizing the chosen topic. \n\n\n\nSome weeks\, there will also be potting or other activities. The topics emphasize respect for all living things and prepare the children (and parents) to be good stewards of the planet. \n\n\n\nPre-registration is required. \n\n\n\nRegistration for the Friday event begins on Tuesday at 10:00 am of the same week.Call the Nature Center to register at (310)782-3989. \n\n\n\nSpace is limited to the first 20 people who sign up \n\n\n\n\n\n\n\n\n\n\n\n\n\n\n\n 
URL:https://www.friendsofmadronamarsh.com/event/fridayfun-3/2029-08-03/
LOCATION:Madrona Marsh Nature Center\, 3201 Plaza Del Amo\, Torrance\, CA\, 90503\, United States
CATEGORIES:Kids Programs
ATTACH;FMTTYPE=image/jpeg:https://www.friendsofmadronamarsh.com/wp-content/uploads/2025/10/kids-den-friday-fun-cindy-kids-madrona-marsh.jpg
END:VEVENT
BEGIN:VEVENT
DTSTART;VALUE=DATE:20290805
DTEND;VALUE=DATE:20290806
DTSTAMP:20260419T122308
CREATED:20251217T000044Z
LAST-MODIFIED:20251217T000215Z
UID:10002657-1880582400-1880668799@www.friendsofmadronamarsh.com
SUMMARY:Closed - Preserve & Nature Center
DESCRIPTION:
URL:https://www.friendsofmadronamarsh.com/event/preserve-nature-center-closed-2/2029-08-05/
LOCATION:Madrona Marsh Nature Center\, 3201 Plaza Del Amo\, Torrance\, CA\, 90503\, United States
END:VEVENT
BEGIN:VEVENT
DTSTART;VALUE=DATE:20290806
DTEND;VALUE=DATE:20290807
DTSTAMP:20260419T122308
CREATED:20251217T000044Z
LAST-MODIFIED:20251217T000215Z
UID:10002658-1880668800-1880755199@www.friendsofmadronamarsh.com
SUMMARY:Closed - Preserve & Nature Center
DESCRIPTION:
URL:https://www.friendsofmadronamarsh.com/event/preserve-nature-center-closed-2/2029-08-06/
LOCATION:Madrona Marsh Nature Center\, 3201 Plaza Del Amo\, Torrance\, CA\, 90503\, United States
END:VEVENT
BEGIN:VEVENT
DTSTART;TZID=America/Los_Angeles:20290809T103000
DTEND;TZID=America/Los_Angeles:20290809T120000
DTSTAMP:20260419T122308
CREATED:20260205T214721Z
LAST-MODIFIED:20260205T214721Z
UID:10003303-1880965800-1880971200@www.friendsofmadronamarsh.com
SUMMARY:Nature Storytime
DESCRIPTION:Nature Storytime is a hands-on program for preschoolers ages 2-5 years. \nExplore the wonders of Madrona Marsh through engaging stories and educational learning activities.  Each program is designed to teach the importance of nature in a caring\, nurturing environment. \nPre-registration is required. Call the Nature Center to register at (310)782-3989. \nMust be accompanied by an adult.
URL:https://www.friendsofmadronamarsh.com/event/nature-storytime-3/2029-08-09/
LOCATION:Madrona Marsh Nature Center\, 3201 Plaza Del Amo\, Torrance\, CA\, 90503\, United States
CATEGORIES:Featured Events,Kids Programs
ATTACH;FMTTYPE=image/jpeg:https://www.friendsofmadronamarsh.com/wp-content/uploads/2026/01/Vasi-at-Nature-Storytime.jpeg
END:VEVENT
BEGIN:VEVENT
DTSTART;TZID=America/Los_Angeles:20290810T100000
DTEND;TZID=America/Los_Angeles:20290810T120000
DTSTAMP:20260419T122308
CREATED:20260107T195358Z
LAST-MODIFIED:20260227T202426Z
UID:10003009-1881050400-1881057600@www.friendsofmadronamarsh.com
SUMMARY:Friday Fun
DESCRIPTION:Friday Fun is a hands-on program for preschoolers\, age 3-6\, and their parents or guardians. The program is offered at no charge every Friday. The program will incorporate story time\, science\, art\, and a tour emphasizing the chosen topic. \n\n\n\nSome weeks\, there will also be potting or other activities. The topics emphasize respect for all living things and prepare the children (and parents) to be good stewards of the planet. \n\n\n\nPre-registration is required. \n\n\n\nRegistration for the Friday event begins on Tuesday at 10:00 am of the same week.Call the Nature Center to register at (310)782-3989. \n\n\n\nSpace is limited to the first 20 people who sign up \n\n\n\n\n\n\n\n\n\n\n\n\n\n\n\n 
URL:https://www.friendsofmadronamarsh.com/event/fridayfun-3/2029-08-10/
LOCATION:Madrona Marsh Nature Center\, 3201 Plaza Del Amo\, Torrance\, CA\, 90503\, United States
CATEGORIES:Kids Programs
ATTACH;FMTTYPE=image/jpeg:https://www.friendsofmadronamarsh.com/wp-content/uploads/2025/10/kids-den-friday-fun-cindy-kids-madrona-marsh.jpg
END:VEVENT
BEGIN:VEVENT
DTSTART;VALUE=DATE:20290812
DTEND;VALUE=DATE:20290813
DTSTAMP:20260419T122308
CREATED:20251217T000044Z
LAST-MODIFIED:20251217T000215Z
UID:10002659-1881187200-1881273599@www.friendsofmadronamarsh.com
SUMMARY:Closed - Preserve & Nature Center
DESCRIPTION:
URL:https://www.friendsofmadronamarsh.com/event/preserve-nature-center-closed-2/2029-08-12/
LOCATION:Madrona Marsh Nature Center\, 3201 Plaza Del Amo\, Torrance\, CA\, 90503\, United States
END:VEVENT
BEGIN:VEVENT
DTSTART;VALUE=DATE:20290813
DTEND;VALUE=DATE:20290814
DTSTAMP:20260419T122308
CREATED:20251217T000044Z
LAST-MODIFIED:20251217T000215Z
UID:10002660-1881273600-1881359999@www.friendsofmadronamarsh.com
SUMMARY:Closed - Preserve & Nature Center
DESCRIPTION:
URL:https://www.friendsofmadronamarsh.com/event/preserve-nature-center-closed-2/2029-08-13/
LOCATION:Madrona Marsh Nature Center\, 3201 Plaza Del Amo\, Torrance\, CA\, 90503\, United States
END:VEVENT
BEGIN:VEVENT
DTSTART;TZID=America/Los_Angeles:20290817T100000
DTEND;TZID=America/Los_Angeles:20290817T120000
DTSTAMP:20260419T122308
CREATED:20260107T195358Z
LAST-MODIFIED:20260227T202426Z
UID:10003010-1881655200-1881662400@www.friendsofmadronamarsh.com
SUMMARY:Friday Fun
DESCRIPTION:Friday Fun is a hands-on program for preschoolers\, age 3-6\, and their parents or guardians. The program is offered at no charge every Friday. The program will incorporate story time\, science\, art\, and a tour emphasizing the chosen topic. \n\n\n\nSome weeks\, there will also be potting or other activities. The topics emphasize respect for all living things and prepare the children (and parents) to be good stewards of the planet. \n\n\n\nPre-registration is required. \n\n\n\nRegistration for the Friday event begins on Tuesday at 10:00 am of the same week.Call the Nature Center to register at (310)782-3989. \n\n\n\nSpace is limited to the first 20 people who sign up \n\n\n\n\n\n\n\n\n\n\n\n\n\n\n\n 
URL:https://www.friendsofmadronamarsh.com/event/fridayfun-3/2029-08-17/
LOCATION:Madrona Marsh Nature Center\, 3201 Plaza Del Amo\, Torrance\, CA\, 90503\, United States
CATEGORIES:Kids Programs
ATTACH;FMTTYPE=image/jpeg:https://www.friendsofmadronamarsh.com/wp-content/uploads/2025/10/kids-den-friday-fun-cindy-kids-madrona-marsh.jpg
END:VEVENT
BEGIN:VEVENT
DTSTART;TZID=America/Los_Angeles:20290818T090000
DTEND;TZID=America/Los_Angeles:20290818T110000
DTSTAMP:20260419T122308
CREATED:20251104T013240Z
LAST-MODIFIED:20251104T014019Z
UID:10001307-1881738000-1881745200@www.friendsofmadronamarsh.com
SUMMARY:Henrietta Basin Walk
DESCRIPTION:Join our docent-led walk around the Henrietta Basin on the 3rd Saturday of every month and learn about the City’s Stormwater Enhancement Program. Observe birds and other wildlife living in and benefitting from the basin’s open habitat space. \nOpen to all ages! Bring binoculars and wear closed-toed shoes. \nMeet at the Basin’s north entrance on Henrietta St. \nRegistration is encouraged\, but not required. Please call the Nature Center (310) 782-3989 to register. \nHenrietta Basin Walk event page (Facebook)
URL:https://www.friendsofmadronamarsh.com/event/henrietta-basin-walk/2029-08-18/
LOCATION:Henrietta Basin\, 20501-20599 Henrietta St\, Torrance\, CA\, 90503
ATTACH;FMTTYPE=image/jpeg:https://www.friendsofmadronamarsh.com/wp-content/uploads/2025/11/Henrietta-Basin-Walk.jpg
END:VEVENT
BEGIN:VEVENT
DTSTART;VALUE=DATE:20290819
DTEND;VALUE=DATE:20290820
DTSTAMP:20260419T122308
CREATED:20251217T000044Z
LAST-MODIFIED:20251217T000215Z
UID:10002661-1881792000-1881878399@www.friendsofmadronamarsh.com
SUMMARY:Closed - Preserve & Nature Center
DESCRIPTION:
URL:https://www.friendsofmadronamarsh.com/event/preserve-nature-center-closed-2/2029-08-19/
LOCATION:Madrona Marsh Nature Center\, 3201 Plaza Del Amo\, Torrance\, CA\, 90503\, United States
END:VEVENT
BEGIN:VEVENT
DTSTART;VALUE=DATE:20290820
DTEND;VALUE=DATE:20290821
DTSTAMP:20260419T122308
CREATED:20251217T000044Z
LAST-MODIFIED:20251217T000215Z
UID:10002662-1881878400-1881964799@www.friendsofmadronamarsh.com
SUMMARY:Closed - Preserve & Nature Center
DESCRIPTION:
URL:https://www.friendsofmadronamarsh.com/event/preserve-nature-center-closed-2/2029-08-20/
LOCATION:Madrona Marsh Nature Center\, 3201 Plaza Del Amo\, Torrance\, CA\, 90503\, United States
END:VEVENT
BEGIN:VEVENT
DTSTART;TZID=America/Los_Angeles:20290824T100000
DTEND;TZID=America/Los_Angeles:20290824T120000
DTSTAMP:20260419T122308
CREATED:20260107T195358Z
LAST-MODIFIED:20260227T202426Z
UID:10003011-1882260000-1882267200@www.friendsofmadronamarsh.com
SUMMARY:Friday Fun
DESCRIPTION:Friday Fun is a hands-on program for preschoolers\, age 3-6\, and their parents or guardians. The program is offered at no charge every Friday. The program will incorporate story time\, science\, art\, and a tour emphasizing the chosen topic. \n\n\n\nSome weeks\, there will also be potting or other activities. The topics emphasize respect for all living things and prepare the children (and parents) to be good stewards of the planet. \n\n\n\nPre-registration is required. \n\n\n\nRegistration for the Friday event begins on Tuesday at 10:00 am of the same week.Call the Nature Center to register at (310)782-3989. \n\n\n\nSpace is limited to the first 20 people who sign up \n\n\n\n\n\n\n\n\n\n\n\n\n\n\n\n 
URL:https://www.friendsofmadronamarsh.com/event/fridayfun-3/2029-08-24/
LOCATION:Madrona Marsh Nature Center\, 3201 Plaza Del Amo\, Torrance\, CA\, 90503\, United States
CATEGORIES:Kids Programs
ATTACH;FMTTYPE=image/jpeg:https://www.friendsofmadronamarsh.com/wp-content/uploads/2025/10/kids-den-friday-fun-cindy-kids-madrona-marsh.jpg
END:VEVENT
BEGIN:VEVENT
DTSTART;VALUE=DATE:20290826
DTEND;VALUE=DATE:20290827
DTSTAMP:20260419T122308
CREATED:20251217T000044Z
LAST-MODIFIED:20251217T000215Z
UID:10002663-1882396800-1882483199@www.friendsofmadronamarsh.com
SUMMARY:Closed - Preserve & Nature Center
DESCRIPTION:
URL:https://www.friendsofmadronamarsh.com/event/preserve-nature-center-closed-2/2029-08-26/
LOCATION:Madrona Marsh Nature Center\, 3201 Plaza Del Amo\, Torrance\, CA\, 90503\, United States
END:VEVENT
BEGIN:VEVENT
DTSTART;VALUE=DATE:20290827
DTEND;VALUE=DATE:20290828
DTSTAMP:20260419T122308
CREATED:20251217T000044Z
LAST-MODIFIED:20251217T000215Z
UID:10002664-1882483200-1882569599@www.friendsofmadronamarsh.com
SUMMARY:Closed - Preserve & Nature Center
DESCRIPTION:
URL:https://www.friendsofmadronamarsh.com/event/preserve-nature-center-closed-2/2029-08-27/
LOCATION:Madrona Marsh Nature Center\, 3201 Plaza Del Amo\, Torrance\, CA\, 90503\, United States
END:VEVENT
BEGIN:VEVENT
DTSTART;TZID=America/Los_Angeles:20290831T100000
DTEND;TZID=America/Los_Angeles:20290831T120000
DTSTAMP:20260419T122308
CREATED:20260107T195358Z
LAST-MODIFIED:20260227T202426Z
UID:10003012-1882864800-1882872000@www.friendsofmadronamarsh.com
SUMMARY:Friday Fun
DESCRIPTION:Friday Fun is a hands-on program for preschoolers\, age 3-6\, and their parents or guardians. The program is offered at no charge every Friday. The program will incorporate story time\, science\, art\, and a tour emphasizing the chosen topic. \n\n\n\nSome weeks\, there will also be potting or other activities. The topics emphasize respect for all living things and prepare the children (and parents) to be good stewards of the planet. \n\n\n\nPre-registration is required. \n\n\n\nRegistration for the Friday event begins on Tuesday at 10:00 am of the same week.Call the Nature Center to register at (310)782-3989. \n\n\n\nSpace is limited to the first 20 people who sign up \n\n\n\n\n\n\n\n\n\n\n\n\n\n\n\n 
URL:https://www.friendsofmadronamarsh.com/event/fridayfun-3/2029-08-31/
LOCATION:Madrona Marsh Nature Center\, 3201 Plaza Del Amo\, Torrance\, CA\, 90503\, United States
CATEGORIES:Kids Programs
ATTACH;FMTTYPE=image/jpeg:https://www.friendsofmadronamarsh.com/wp-content/uploads/2025/10/kids-den-friday-fun-cindy-kids-madrona-marsh.jpg
END:VEVENT
BEGIN:VEVENT
DTSTART;VALUE=DATE:20290902
DTEND;VALUE=DATE:20290903
DTSTAMP:20260419T122308
CREATED:20251217T000044Z
LAST-MODIFIED:20251217T000215Z
UID:10002665-1883001600-1883087999@www.friendsofmadronamarsh.com
SUMMARY:Closed - Preserve & Nature Center
DESCRIPTION:
URL:https://www.friendsofmadronamarsh.com/event/preserve-nature-center-closed-2/2029-09-02/
LOCATION:Madrona Marsh Nature Center\, 3201 Plaza Del Amo\, Torrance\, CA\, 90503\, United States
END:VEVENT
BEGIN:VEVENT
DTSTART;VALUE=DATE:20290903
DTEND;VALUE=DATE:20290904
DTSTAMP:20260419T122308
CREATED:20251217T000044Z
LAST-MODIFIED:20251217T000215Z
UID:10002666-1883088000-1883174399@www.friendsofmadronamarsh.com
SUMMARY:Closed - Preserve & Nature Center
DESCRIPTION:
URL:https://www.friendsofmadronamarsh.com/event/preserve-nature-center-closed-2/2029-09-03/
LOCATION:Madrona Marsh Nature Center\, 3201 Plaza Del Amo\, Torrance\, CA\, 90503\, United States
END:VEVENT
BEGIN:VEVENT
DTSTART;TZID=America/Los_Angeles:20290906T100000
DTEND;TZID=America/Los_Angeles:20290906T113000
DTSTAMP:20260419T122308
CREATED:20251104T031938Z
LAST-MODIFIED:20260111T210108Z
UID:10001369-1883383200-1883388600@www.friendsofmadronamarsh.com
SUMMARY:Tyke Hike
DESCRIPTION:Bring your young child (ages 0 – 6 yr.) for a walk around the Preserve and an introduction to nature. Listen to birds\, look for frogs\, and get refreshed in the sun and our cool breeze. \nChildren must be accompanied by an adult. \nIt’s held in the Preserve. Meet in front of the Nature Center.\nThis is an outdoor event.
URL:https://www.friendsofmadronamarsh.com/event/tyke-hike/2029-09-06/
LOCATION:Madrona Marsh Nature Center\, 3201 Plaza Del Amo\, Torrance\, CA\, 90503\, United States
CATEGORIES:Docent Tours,Kids Programs
ATTACH;FMTTYPE=image/jpeg:https://www.friendsofmadronamarsh.com/wp-content/uploads/2025/11/docent-opp.jpg
END:VEVENT
BEGIN:VEVENT
DTSTART;TZID=America/Los_Angeles:20290907T100000
DTEND;TZID=America/Los_Angeles:20290907T120000
DTSTAMP:20260419T122308
CREATED:20260107T195358Z
LAST-MODIFIED:20260227T202426Z
UID:10003013-1883469600-1883476800@www.friendsofmadronamarsh.com
SUMMARY:Friday Fun
DESCRIPTION:Friday Fun is a hands-on program for preschoolers\, age 3-6\, and their parents or guardians. The program is offered at no charge every Friday. The program will incorporate story time\, science\, art\, and a tour emphasizing the chosen topic. \n\n\n\nSome weeks\, there will also be potting or other activities. The topics emphasize respect for all living things and prepare the children (and parents) to be good stewards of the planet. \n\n\n\nPre-registration is required. \n\n\n\nRegistration for the Friday event begins on Tuesday at 10:00 am of the same week.Call the Nature Center to register at (310)782-3989. \n\n\n\nSpace is limited to the first 20 people who sign up \n\n\n\n\n\n\n\n\n\n\n\n\n\n\n\n 
URL:https://www.friendsofmadronamarsh.com/event/fridayfun-3/2029-09-07/
LOCATION:Madrona Marsh Nature Center\, 3201 Plaza Del Amo\, Torrance\, CA\, 90503\, United States
CATEGORIES:Kids Programs
ATTACH;FMTTYPE=image/jpeg:https://www.friendsofmadronamarsh.com/wp-content/uploads/2025/10/kids-den-friday-fun-cindy-kids-madrona-marsh.jpg
END:VEVENT
END:VCALENDAR