BEGIN:VCALENDAR
VERSION:2.0
PRODID:-//Friends of Madrona Marsh - ECPv6.15.20//NONSGML v1.0//EN
CALSCALE:GREGORIAN
METHOD:PUBLISH
X-ORIGINAL-URL:https://www.friendsofmadronamarsh.com
X-WR-CALDESC:Events for Friends of Madrona Marsh
REFRESH-INTERVAL;VALUE=DURATION:PT1H
X-Robots-Tag:noindex
X-PUBLISHED-TTL:PT1H
BEGIN:VTIMEZONE
TZID:America/Los_Angeles
BEGIN:DAYLIGHT
TZOFFSETFROM:-0800
TZOFFSETTO:-0700
TZNAME:PDT
DTSTART:20280312T100000
END:DAYLIGHT
BEGIN:STANDARD
TZOFFSETFROM:-0700
TZOFFSETTO:-0800
TZNAME:PST
DTSTART:20281105T090000
END:STANDARD
BEGIN:DAYLIGHT
TZOFFSETFROM:-0800
TZOFFSETTO:-0700
TZNAME:PDT
DTSTART:20290311T100000
END:DAYLIGHT
BEGIN:STANDARD
TZOFFSETFROM:-0700
TZOFFSETTO:-0800
TZNAME:PST
DTSTART:20291104T090000
END:STANDARD
BEGIN:DAYLIGHT
TZOFFSETFROM:-0800
TZOFFSETTO:-0700
TZNAME:PDT
DTSTART:20300310T100000
END:DAYLIGHT
BEGIN:STANDARD
TZOFFSETFROM:-0700
TZOFFSETTO:-0800
TZNAME:PST
DTSTART:20301103T090000
END:STANDARD
END:VTIMEZONE
BEGIN:VEVENT
DTSTART;VALUE=DATE:20290917
DTEND;VALUE=DATE:20290918
DTSTAMP:20260419T164255
CREATED:20251217T000044Z
LAST-MODIFIED:20251217T000215Z
UID:10002670-1884297600-1884383999@www.friendsofmadronamarsh.com
SUMMARY:Closed - Preserve & Nature Center
DESCRIPTION:
URL:https://www.friendsofmadronamarsh.com/event/preserve-nature-center-closed-2/2029-09-17/
LOCATION:Madrona Marsh Nature Center\, 3201 Plaza Del Amo\, Torrance\, CA\, 90503\, United States
END:VEVENT
BEGIN:VEVENT
DTSTART;TZID=America/Los_Angeles:20290921T100000
DTEND;TZID=America/Los_Angeles:20290921T120000
DTSTAMP:20260419T164255
CREATED:20260107T195358Z
LAST-MODIFIED:20260227T202426Z
UID:10003015-1884679200-1884686400@www.friendsofmadronamarsh.com
SUMMARY:Friday Fun
DESCRIPTION:Friday Fun is a hands-on program for preschoolers\, age 3-6\, and their parents or guardians. The program is offered at no charge every Friday. The program will incorporate story time\, science\, art\, and a tour emphasizing the chosen topic. \n\n\n\nSome weeks\, there will also be potting or other activities. The topics emphasize respect for all living things and prepare the children (and parents) to be good stewards of the planet. \n\n\n\nPre-registration is required. \n\n\n\nRegistration for the Friday event begins on Tuesday at 10:00 am of the same week.Call the Nature Center to register at (310)782-3989. \n\n\n\nSpace is limited to the first 20 people who sign up \n\n\n\n\n\n\n\n\n\n\n\n\n\n\n\n 
URL:https://www.friendsofmadronamarsh.com/event/fridayfun-3/2029-09-21/
LOCATION:Madrona Marsh Nature Center\, 3201 Plaza Del Amo\, Torrance\, CA\, 90503\, United States
CATEGORIES:Kids Programs
ATTACH;FMTTYPE=image/jpeg:https://www.friendsofmadronamarsh.com/wp-content/uploads/2025/10/kids-den-friday-fun-cindy-kids-madrona-marsh.jpg
END:VEVENT
BEGIN:VEVENT
DTSTART;VALUE=DATE:20290923
DTEND;VALUE=DATE:20290924
DTSTAMP:20260419T164255
CREATED:20251217T000044Z
LAST-MODIFIED:20251217T000215Z
UID:10002671-1884816000-1884902399@www.friendsofmadronamarsh.com
SUMMARY:Closed - Preserve & Nature Center
DESCRIPTION:
URL:https://www.friendsofmadronamarsh.com/event/preserve-nature-center-closed-2/2029-09-23/
LOCATION:Madrona Marsh Nature Center\, 3201 Plaza Del Amo\, Torrance\, CA\, 90503\, United States
END:VEVENT
BEGIN:VEVENT
DTSTART;VALUE=DATE:20290924
DTEND;VALUE=DATE:20290925
DTSTAMP:20260419T164255
CREATED:20251217T000044Z
LAST-MODIFIED:20251217T000215Z
UID:10002672-1884902400-1884988799@www.friendsofmadronamarsh.com
SUMMARY:Closed - Preserve & Nature Center
DESCRIPTION:
URL:https://www.friendsofmadronamarsh.com/event/preserve-nature-center-closed-2/2029-09-24/
LOCATION:Madrona Marsh Nature Center\, 3201 Plaza Del Amo\, Torrance\, CA\, 90503\, United States
END:VEVENT
BEGIN:VEVENT
DTSTART;TZID=America/Los_Angeles:20290928T100000
DTEND;TZID=America/Los_Angeles:20290928T120000
DTSTAMP:20260419T164255
CREATED:20260107T195358Z
LAST-MODIFIED:20260227T202426Z
UID:10003016-1885284000-1885291200@www.friendsofmadronamarsh.com
SUMMARY:Friday Fun
DESCRIPTION:Friday Fun is a hands-on program for preschoolers\, age 3-6\, and their parents or guardians. The program is offered at no charge every Friday. The program will incorporate story time\, science\, art\, and a tour emphasizing the chosen topic. \n\n\n\nSome weeks\, there will also be potting or other activities. The topics emphasize respect for all living things and prepare the children (and parents) to be good stewards of the planet. \n\n\n\nPre-registration is required. \n\n\n\nRegistration for the Friday event begins on Tuesday at 10:00 am of the same week.Call the Nature Center to register at (310)782-3989. \n\n\n\nSpace is limited to the first 20 people who sign up \n\n\n\n\n\n\n\n\n\n\n\n\n\n\n\n 
URL:https://www.friendsofmadronamarsh.com/event/fridayfun-3/2029-09-28/
LOCATION:Madrona Marsh Nature Center\, 3201 Plaza Del Amo\, Torrance\, CA\, 90503\, United States
CATEGORIES:Kids Programs
ATTACH;FMTTYPE=image/jpeg:https://www.friendsofmadronamarsh.com/wp-content/uploads/2025/10/kids-den-friday-fun-cindy-kids-madrona-marsh.jpg
END:VEVENT
BEGIN:VEVENT
DTSTART;VALUE=DATE:20290930
DTEND;VALUE=DATE:20291001
DTSTAMP:20260419T164255
CREATED:20251217T000044Z
LAST-MODIFIED:20251217T000215Z
UID:10002673-1885420800-1885507199@www.friendsofmadronamarsh.com
SUMMARY:Closed - Preserve & Nature Center
DESCRIPTION:
URL:https://www.friendsofmadronamarsh.com/event/preserve-nature-center-closed-2/2029-09-30/
LOCATION:Madrona Marsh Nature Center\, 3201 Plaza Del Amo\, Torrance\, CA\, 90503\, United States
END:VEVENT
BEGIN:VEVENT
DTSTART;VALUE=DATE:20291001
DTEND;VALUE=DATE:20291002
DTSTAMP:20260419T164255
CREATED:20251217T000044Z
LAST-MODIFIED:20251217T000215Z
UID:10002674-1885507200-1885593599@www.friendsofmadronamarsh.com
SUMMARY:Closed - Preserve & Nature Center
DESCRIPTION:
URL:https://www.friendsofmadronamarsh.com/event/preserve-nature-center-closed-2/2029-10-01/
LOCATION:Madrona Marsh Nature Center\, 3201 Plaza Del Amo\, Torrance\, CA\, 90503\, United States
END:VEVENT
BEGIN:VEVENT
DTSTART;TZID=America/Los_Angeles:20291004T100000
DTEND;TZID=America/Los_Angeles:20291004T113000
DTSTAMP:20260419T164255
CREATED:20251104T031938Z
LAST-MODIFIED:20260111T210108Z
UID:10001370-1885802400-1885807800@www.friendsofmadronamarsh.com
SUMMARY:Tyke Hike
DESCRIPTION:Bring your young child (ages 0 – 6 yr.) for a walk around the Preserve and an introduction to nature. Listen to birds\, look for frogs\, and get refreshed in the sun and our cool breeze. \nChildren must be accompanied by an adult. \nIt’s held in the Preserve. Meet in front of the Nature Center.\nThis is an outdoor event.
URL:https://www.friendsofmadronamarsh.com/event/tyke-hike/2029-10-04/
LOCATION:Madrona Marsh Nature Center\, 3201 Plaza Del Amo\, Torrance\, CA\, 90503\, United States
CATEGORIES:Docent Tours,Kids Programs
ATTACH;FMTTYPE=image/jpeg:https://www.friendsofmadronamarsh.com/wp-content/uploads/2025/11/docent-opp.jpg
END:VEVENT
BEGIN:VEVENT
DTSTART;TZID=America/Los_Angeles:20291005T100000
DTEND;TZID=America/Los_Angeles:20291005T120000
DTSTAMP:20260419T164255
CREATED:20260107T195358Z
LAST-MODIFIED:20260227T202426Z
UID:10003017-1885888800-1885896000@www.friendsofmadronamarsh.com
SUMMARY:Friday Fun
DESCRIPTION:Friday Fun is a hands-on program for preschoolers\, age 3-6\, and their parents or guardians. The program is offered at no charge every Friday. The program will incorporate story time\, science\, art\, and a tour emphasizing the chosen topic. \n\n\n\nSome weeks\, there will also be potting or other activities. The topics emphasize respect for all living things and prepare the children (and parents) to be good stewards of the planet. \n\n\n\nPre-registration is required. \n\n\n\nRegistration for the Friday event begins on Tuesday at 10:00 am of the same week.Call the Nature Center to register at (310)782-3989. \n\n\n\nSpace is limited to the first 20 people who sign up \n\n\n\n\n\n\n\n\n\n\n\n\n\n\n\n 
URL:https://www.friendsofmadronamarsh.com/event/fridayfun-3/2029-10-05/
LOCATION:Madrona Marsh Nature Center\, 3201 Plaza Del Amo\, Torrance\, CA\, 90503\, United States
CATEGORIES:Kids Programs
ATTACH;FMTTYPE=image/jpeg:https://www.friendsofmadronamarsh.com/wp-content/uploads/2025/10/kids-den-friday-fun-cindy-kids-madrona-marsh.jpg
END:VEVENT
BEGIN:VEVENT
DTSTART;VALUE=DATE:20291007
DTEND;VALUE=DATE:20291008
DTSTAMP:20260419T164255
CREATED:20251217T000044Z
LAST-MODIFIED:20251217T000215Z
UID:10002675-1886025600-1886111999@www.friendsofmadronamarsh.com
SUMMARY:Closed - Preserve & Nature Center
DESCRIPTION:
URL:https://www.friendsofmadronamarsh.com/event/preserve-nature-center-closed-2/2029-10-07/
LOCATION:Madrona Marsh Nature Center\, 3201 Plaza Del Amo\, Torrance\, CA\, 90503\, United States
END:VEVENT
BEGIN:VEVENT
DTSTART;VALUE=DATE:20291008
DTEND;VALUE=DATE:20291009
DTSTAMP:20260419T164255
CREATED:20251217T000044Z
LAST-MODIFIED:20251217T000215Z
UID:10002676-1886112000-1886198399@www.friendsofmadronamarsh.com
SUMMARY:Closed - Preserve & Nature Center
DESCRIPTION:
URL:https://www.friendsofmadronamarsh.com/event/preserve-nature-center-closed-2/2029-10-08/
LOCATION:Madrona Marsh Nature Center\, 3201 Plaza Del Amo\, Torrance\, CA\, 90503\, United States
END:VEVENT
BEGIN:VEVENT
DTSTART;TZID=America/Los_Angeles:20291011T103000
DTEND;TZID=America/Los_Angeles:20291011T120000
DTSTAMP:20260419T164255
CREATED:20260205T214721Z
LAST-MODIFIED:20260205T214721Z
UID:10003305-1886409000-1886414400@www.friendsofmadronamarsh.com
SUMMARY:Nature Storytime
DESCRIPTION:Nature Storytime is a hands-on program for preschoolers ages 2-5 years. \nExplore the wonders of Madrona Marsh through engaging stories and educational learning activities.  Each program is designed to teach the importance of nature in a caring\, nurturing environment. \nPre-registration is required. Call the Nature Center to register at (310)782-3989. \nMust be accompanied by an adult.
URL:https://www.friendsofmadronamarsh.com/event/nature-storytime-3/2029-10-11/
LOCATION:Madrona Marsh Nature Center\, 3201 Plaza Del Amo\, Torrance\, CA\, 90503\, United States
CATEGORIES:Featured Events,Kids Programs
ATTACH;FMTTYPE=image/jpeg:https://www.friendsofmadronamarsh.com/wp-content/uploads/2026/01/Vasi-at-Nature-Storytime.jpeg
END:VEVENT
BEGIN:VEVENT
DTSTART;TZID=America/Los_Angeles:20291012T100000
DTEND;TZID=America/Los_Angeles:20291012T120000
DTSTAMP:20260419T164255
CREATED:20260107T195358Z
LAST-MODIFIED:20260227T202426Z
UID:10003018-1886493600-1886500800@www.friendsofmadronamarsh.com
SUMMARY:Friday Fun
DESCRIPTION:Friday Fun is a hands-on program for preschoolers\, age 3-6\, and their parents or guardians. The program is offered at no charge every Friday. The program will incorporate story time\, science\, art\, and a tour emphasizing the chosen topic. \n\n\n\nSome weeks\, there will also be potting or other activities. The topics emphasize respect for all living things and prepare the children (and parents) to be good stewards of the planet. \n\n\n\nPre-registration is required. \n\n\n\nRegistration for the Friday event begins on Tuesday at 10:00 am of the same week.Call the Nature Center to register at (310)782-3989. \n\n\n\nSpace is limited to the first 20 people who sign up \n\n\n\n\n\n\n\n\n\n\n\n\n\n\n\n 
URL:https://www.friendsofmadronamarsh.com/event/fridayfun-3/2029-10-12/
LOCATION:Madrona Marsh Nature Center\, 3201 Plaza Del Amo\, Torrance\, CA\, 90503\, United States
CATEGORIES:Kids Programs
ATTACH;FMTTYPE=image/jpeg:https://www.friendsofmadronamarsh.com/wp-content/uploads/2025/10/kids-den-friday-fun-cindy-kids-madrona-marsh.jpg
END:VEVENT
BEGIN:VEVENT
DTSTART;VALUE=DATE:20291014
DTEND;VALUE=DATE:20291015
DTSTAMP:20260419T164255
CREATED:20251217T000044Z
LAST-MODIFIED:20251217T000215Z
UID:10002677-1886630400-1886716799@www.friendsofmadronamarsh.com
SUMMARY:Closed - Preserve & Nature Center
DESCRIPTION:
URL:https://www.friendsofmadronamarsh.com/event/preserve-nature-center-closed-2/2029-10-14/
LOCATION:Madrona Marsh Nature Center\, 3201 Plaza Del Amo\, Torrance\, CA\, 90503\, United States
END:VEVENT
BEGIN:VEVENT
DTSTART;VALUE=DATE:20291015
DTEND;VALUE=DATE:20291016
DTSTAMP:20260419T164255
CREATED:20251217T000044Z
LAST-MODIFIED:20251217T000215Z
UID:10002678-1886716800-1886803199@www.friendsofmadronamarsh.com
SUMMARY:Closed - Preserve & Nature Center
DESCRIPTION:
URL:https://www.friendsofmadronamarsh.com/event/preserve-nature-center-closed-2/2029-10-15/
LOCATION:Madrona Marsh Nature Center\, 3201 Plaza Del Amo\, Torrance\, CA\, 90503\, United States
END:VEVENT
BEGIN:VEVENT
DTSTART;TZID=America/Los_Angeles:20291019T100000
DTEND;TZID=America/Los_Angeles:20291019T120000
DTSTAMP:20260419T164255
CREATED:20260107T195358Z
LAST-MODIFIED:20260227T202426Z
UID:10003019-1887098400-1887105600@www.friendsofmadronamarsh.com
SUMMARY:Friday Fun
DESCRIPTION:Friday Fun is a hands-on program for preschoolers\, age 3-6\, and their parents or guardians. The program is offered at no charge every Friday. The program will incorporate story time\, science\, art\, and a tour emphasizing the chosen topic. \n\n\n\nSome weeks\, there will also be potting or other activities. The topics emphasize respect for all living things and prepare the children (and parents) to be good stewards of the planet. \n\n\n\nPre-registration is required. \n\n\n\nRegistration for the Friday event begins on Tuesday at 10:00 am of the same week.Call the Nature Center to register at (310)782-3989. \n\n\n\nSpace is limited to the first 20 people who sign up \n\n\n\n\n\n\n\n\n\n\n\n\n\n\n\n 
URL:https://www.friendsofmadronamarsh.com/event/fridayfun-3/2029-10-19/
LOCATION:Madrona Marsh Nature Center\, 3201 Plaza Del Amo\, Torrance\, CA\, 90503\, United States
CATEGORIES:Kids Programs
ATTACH;FMTTYPE=image/jpeg:https://www.friendsofmadronamarsh.com/wp-content/uploads/2025/10/kids-den-friday-fun-cindy-kids-madrona-marsh.jpg
END:VEVENT
BEGIN:VEVENT
DTSTART;TZID=America/Los_Angeles:20291020T090000
DTEND;TZID=America/Los_Angeles:20291020T110000
DTSTAMP:20260419T164255
CREATED:20251104T013240Z
LAST-MODIFIED:20251104T014019Z
UID:10001309-1887181200-1887188400@www.friendsofmadronamarsh.com
SUMMARY:Henrietta Basin Walk
DESCRIPTION:Join our docent-led walk around the Henrietta Basin on the 3rd Saturday of every month and learn about the City’s Stormwater Enhancement Program. Observe birds and other wildlife living in and benefitting from the basin’s open habitat space. \nOpen to all ages! Bring binoculars and wear closed-toed shoes. \nMeet at the Basin’s north entrance on Henrietta St. \nRegistration is encouraged\, but not required. Please call the Nature Center (310) 782-3989 to register. \nHenrietta Basin Walk event page (Facebook)
URL:https://www.friendsofmadronamarsh.com/event/henrietta-basin-walk/2029-10-20/
LOCATION:Henrietta Basin\, 20501-20599 Henrietta St\, Torrance\, CA\, 90503
ATTACH;FMTTYPE=image/jpeg:https://www.friendsofmadronamarsh.com/wp-content/uploads/2025/11/Henrietta-Basin-Walk.jpg
END:VEVENT
BEGIN:VEVENT
DTSTART;VALUE=DATE:20291021
DTEND;VALUE=DATE:20291022
DTSTAMP:20260419T164255
CREATED:20251217T000044Z
LAST-MODIFIED:20251217T000215Z
UID:10002679-1887235200-1887321599@www.friendsofmadronamarsh.com
SUMMARY:Closed - Preserve & Nature Center
DESCRIPTION:
URL:https://www.friendsofmadronamarsh.com/event/preserve-nature-center-closed-2/2029-10-21/
LOCATION:Madrona Marsh Nature Center\, 3201 Plaza Del Amo\, Torrance\, CA\, 90503\, United States
END:VEVENT
BEGIN:VEVENT
DTSTART;VALUE=DATE:20291022
DTEND;VALUE=DATE:20291023
DTSTAMP:20260419T164255
CREATED:20251217T000044Z
LAST-MODIFIED:20251217T000215Z
UID:10002680-1887321600-1887407999@www.friendsofmadronamarsh.com
SUMMARY:Closed - Preserve & Nature Center
DESCRIPTION:
URL:https://www.friendsofmadronamarsh.com/event/preserve-nature-center-closed-2/2029-10-22/
LOCATION:Madrona Marsh Nature Center\, 3201 Plaza Del Amo\, Torrance\, CA\, 90503\, United States
END:VEVENT
BEGIN:VEVENT
DTSTART;TZID=America/Los_Angeles:20291026T100000
DTEND;TZID=America/Los_Angeles:20291026T120000
DTSTAMP:20260419T164255
CREATED:20260107T195358Z
LAST-MODIFIED:20260227T202426Z
UID:10003020-1887703200-1887710400@www.friendsofmadronamarsh.com
SUMMARY:Friday Fun
DESCRIPTION:Friday Fun is a hands-on program for preschoolers\, age 3-6\, and their parents or guardians. The program is offered at no charge every Friday. The program will incorporate story time\, science\, art\, and a tour emphasizing the chosen topic. \n\n\n\nSome weeks\, there will also be potting or other activities. The topics emphasize respect for all living things and prepare the children (and parents) to be good stewards of the planet. \n\n\n\nPre-registration is required. \n\n\n\nRegistration for the Friday event begins on Tuesday at 10:00 am of the same week.Call the Nature Center to register at (310)782-3989. \n\n\n\nSpace is limited to the first 20 people who sign up \n\n\n\n\n\n\n\n\n\n\n\n\n\n\n\n 
URL:https://www.friendsofmadronamarsh.com/event/fridayfun-3/2029-10-26/
LOCATION:Madrona Marsh Nature Center\, 3201 Plaza Del Amo\, Torrance\, CA\, 90503\, United States
CATEGORIES:Kids Programs
ATTACH;FMTTYPE=image/jpeg:https://www.friendsofmadronamarsh.com/wp-content/uploads/2025/10/kids-den-friday-fun-cindy-kids-madrona-marsh.jpg
END:VEVENT
BEGIN:VEVENT
DTSTART;VALUE=DATE:20291028
DTEND;VALUE=DATE:20291029
DTSTAMP:20260419T164255
CREATED:20251217T000044Z
LAST-MODIFIED:20251217T000215Z
UID:10002681-1887840000-1887926399@www.friendsofmadronamarsh.com
SUMMARY:Closed - Preserve & Nature Center
DESCRIPTION:
URL:https://www.friendsofmadronamarsh.com/event/preserve-nature-center-closed-2/2029-10-28/
LOCATION:Madrona Marsh Nature Center\, 3201 Plaza Del Amo\, Torrance\, CA\, 90503\, United States
END:VEVENT
BEGIN:VEVENT
DTSTART;VALUE=DATE:20291029
DTEND;VALUE=DATE:20291030
DTSTAMP:20260419T164255
CREATED:20251217T000044Z
LAST-MODIFIED:20251217T000215Z
UID:10002682-1887926400-1888012799@www.friendsofmadronamarsh.com
SUMMARY:Closed - Preserve & Nature Center
DESCRIPTION:
URL:https://www.friendsofmadronamarsh.com/event/preserve-nature-center-closed-2/2029-10-29/
LOCATION:Madrona Marsh Nature Center\, 3201 Plaza Del Amo\, Torrance\, CA\, 90503\, United States
END:VEVENT
BEGIN:VEVENT
DTSTART;TZID=America/Los_Angeles:20291101T100000
DTEND;TZID=America/Los_Angeles:20291101T113000
DTSTAMP:20260419T164255
CREATED:20251104T031938Z
LAST-MODIFIED:20260111T210108Z
UID:10001371-1888221600-1888227000@www.friendsofmadronamarsh.com
SUMMARY:Tyke Hike
DESCRIPTION:Bring your young child (ages 0 – 6 yr.) for a walk around the Preserve and an introduction to nature. Listen to birds\, look for frogs\, and get refreshed in the sun and our cool breeze. \nChildren must be accompanied by an adult. \nIt’s held in the Preserve. Meet in front of the Nature Center.\nThis is an outdoor event.
URL:https://www.friendsofmadronamarsh.com/event/tyke-hike/2029-11-01/
LOCATION:Madrona Marsh Nature Center\, 3201 Plaza Del Amo\, Torrance\, CA\, 90503\, United States
CATEGORIES:Docent Tours,Kids Programs
ATTACH;FMTTYPE=image/jpeg:https://www.friendsofmadronamarsh.com/wp-content/uploads/2025/11/docent-opp.jpg
END:VEVENT
BEGIN:VEVENT
DTSTART;TZID=America/Los_Angeles:20291102T100000
DTEND;TZID=America/Los_Angeles:20291102T120000
DTSTAMP:20260419T164255
CREATED:20260107T195358Z
LAST-MODIFIED:20260227T202426Z
UID:10003021-1888308000-1888315200@www.friendsofmadronamarsh.com
SUMMARY:Friday Fun
DESCRIPTION:Friday Fun is a hands-on program for preschoolers\, age 3-6\, and their parents or guardians. The program is offered at no charge every Friday. The program will incorporate story time\, science\, art\, and a tour emphasizing the chosen topic. \n\n\n\nSome weeks\, there will also be potting or other activities. The topics emphasize respect for all living things and prepare the children (and parents) to be good stewards of the planet. \n\n\n\nPre-registration is required. \n\n\n\nRegistration for the Friday event begins on Tuesday at 10:00 am of the same week.Call the Nature Center to register at (310)782-3989. \n\n\n\nSpace is limited to the first 20 people who sign up \n\n\n\n\n\n\n\n\n\n\n\n\n\n\n\n 
URL:https://www.friendsofmadronamarsh.com/event/fridayfun-3/2029-11-02/
LOCATION:Madrona Marsh Nature Center\, 3201 Plaza Del Amo\, Torrance\, CA\, 90503\, United States
CATEGORIES:Kids Programs
ATTACH;FMTTYPE=image/jpeg:https://www.friendsofmadronamarsh.com/wp-content/uploads/2025/10/kids-den-friday-fun-cindy-kids-madrona-marsh.jpg
END:VEVENT
BEGIN:VEVENT
DTSTART;VALUE=DATE:20291104
DTEND;VALUE=DATE:20291105
DTSTAMP:20260419T164255
CREATED:20251217T000044Z
LAST-MODIFIED:20251217T000215Z
UID:10002683-1888444800-1888527599@www.friendsofmadronamarsh.com
SUMMARY:Closed - Preserve & Nature Center
DESCRIPTION:
URL:https://www.friendsofmadronamarsh.com/event/preserve-nature-center-closed-2/2029-11-04/
LOCATION:Madrona Marsh Nature Center\, 3201 Plaza Del Amo\, Torrance\, CA\, 90503\, United States
END:VEVENT
BEGIN:VEVENT
DTSTART;VALUE=DATE:20291105
DTEND;VALUE=DATE:20291106
DTSTAMP:20260419T164255
CREATED:20251217T000044Z
LAST-MODIFIED:20251217T000215Z
UID:10002684-1888531200-1888617599@www.friendsofmadronamarsh.com
SUMMARY:Closed - Preserve & Nature Center
DESCRIPTION:
URL:https://www.friendsofmadronamarsh.com/event/preserve-nature-center-closed-2/2029-11-05/
LOCATION:Madrona Marsh Nature Center\, 3201 Plaza Del Amo\, Torrance\, CA\, 90503\, United States
END:VEVENT
BEGIN:VEVENT
DTSTART;TZID=America/Los_Angeles:20291108T103000
DTEND;TZID=America/Los_Angeles:20291108T120000
DTSTAMP:20260419T164255
CREATED:20260205T214721Z
LAST-MODIFIED:20260205T214721Z
UID:10003306-1888828200-1888833600@www.friendsofmadronamarsh.com
SUMMARY:Nature Storytime
DESCRIPTION:Nature Storytime is a hands-on program for preschoolers ages 2-5 years. \nExplore the wonders of Madrona Marsh through engaging stories and educational learning activities.  Each program is designed to teach the importance of nature in a caring\, nurturing environment. \nPre-registration is required. Call the Nature Center to register at (310)782-3989. \nMust be accompanied by an adult.
URL:https://www.friendsofmadronamarsh.com/event/nature-storytime-3/2029-11-08/
LOCATION:Madrona Marsh Nature Center\, 3201 Plaza Del Amo\, Torrance\, CA\, 90503\, United States
CATEGORIES:Featured Events,Kids Programs
ATTACH;FMTTYPE=image/jpeg:https://www.friendsofmadronamarsh.com/wp-content/uploads/2026/01/Vasi-at-Nature-Storytime.jpeg
END:VEVENT
BEGIN:VEVENT
DTSTART;TZID=America/Los_Angeles:20291109T100000
DTEND;TZID=America/Los_Angeles:20291109T120000
DTSTAMP:20260419T164255
CREATED:20260107T195358Z
LAST-MODIFIED:20260227T202426Z
UID:10003022-1888912800-1888920000@www.friendsofmadronamarsh.com
SUMMARY:Friday Fun
DESCRIPTION:Friday Fun is a hands-on program for preschoolers\, age 3-6\, and their parents or guardians. The program is offered at no charge every Friday. The program will incorporate story time\, science\, art\, and a tour emphasizing the chosen topic. \n\n\n\nSome weeks\, there will also be potting or other activities. The topics emphasize respect for all living things and prepare the children (and parents) to be good stewards of the planet. \n\n\n\nPre-registration is required. \n\n\n\nRegistration for the Friday event begins on Tuesday at 10:00 am of the same week.Call the Nature Center to register at (310)782-3989. \n\n\n\nSpace is limited to the first 20 people who sign up \n\n\n\n\n\n\n\n\n\n\n\n\n\n\n\n 
URL:https://www.friendsofmadronamarsh.com/event/fridayfun-3/2029-11-09/
LOCATION:Madrona Marsh Nature Center\, 3201 Plaza Del Amo\, Torrance\, CA\, 90503\, United States
CATEGORIES:Kids Programs
ATTACH;FMTTYPE=image/jpeg:https://www.friendsofmadronamarsh.com/wp-content/uploads/2025/10/kids-den-friday-fun-cindy-kids-madrona-marsh.jpg
END:VEVENT
BEGIN:VEVENT
DTSTART;VALUE=DATE:20291111
DTEND;VALUE=DATE:20291112
DTSTAMP:20260419T164255
CREATED:20251217T000044Z
LAST-MODIFIED:20251217T000215Z
UID:10002685-1889049600-1889135999@www.friendsofmadronamarsh.com
SUMMARY:Closed - Preserve & Nature Center
DESCRIPTION:
URL:https://www.friendsofmadronamarsh.com/event/preserve-nature-center-closed-2/2029-11-11/
LOCATION:Madrona Marsh Nature Center\, 3201 Plaza Del Amo\, Torrance\, CA\, 90503\, United States
END:VEVENT
BEGIN:VEVENT
DTSTART;VALUE=DATE:20291112
DTEND;VALUE=DATE:20291113
DTSTAMP:20260419T164255
CREATED:20251217T000044Z
LAST-MODIFIED:20251217T000215Z
UID:10002686-1889136000-1889222399@www.friendsofmadronamarsh.com
SUMMARY:Closed - Preserve & Nature Center
DESCRIPTION:
URL:https://www.friendsofmadronamarsh.com/event/preserve-nature-center-closed-2/2029-11-12/
LOCATION:Madrona Marsh Nature Center\, 3201 Plaza Del Amo\, Torrance\, CA\, 90503\, United States
END:VEVENT
END:VCALENDAR