BEGIN:VCALENDAR
VERSION:2.0
PRODID:-//Friends of Madrona Marsh - ECPv6.15.20//NONSGML v1.0//EN
CALSCALE:GREGORIAN
METHOD:PUBLISH
X-WR-CALNAME:Friends of Madrona Marsh
X-ORIGINAL-URL:https://www.friendsofmadronamarsh.com
X-WR-CALDESC:Events for Friends of Madrona Marsh
REFRESH-INTERVAL;VALUE=DURATION:PT1H
X-Robots-Tag:noindex
X-PUBLISHED-TTL:PT1H
BEGIN:VTIMEZONE
TZID:America/Los_Angeles
BEGIN:DAYLIGHT
TZOFFSETFROM:-0800
TZOFFSETTO:-0700
TZNAME:PDT
DTSTART:20280312T100000
END:DAYLIGHT
BEGIN:STANDARD
TZOFFSETFROM:-0700
TZOFFSETTO:-0800
TZNAME:PST
DTSTART:20281105T090000
END:STANDARD
BEGIN:DAYLIGHT
TZOFFSETFROM:-0800
TZOFFSETTO:-0700
TZNAME:PDT
DTSTART:20290311T100000
END:DAYLIGHT
BEGIN:STANDARD
TZOFFSETFROM:-0700
TZOFFSETTO:-0800
TZNAME:PST
DTSTART:20291104T090000
END:STANDARD
BEGIN:DAYLIGHT
TZOFFSETFROM:-0800
TZOFFSETTO:-0700
TZNAME:PDT
DTSTART:20300310T100000
END:DAYLIGHT
BEGIN:STANDARD
TZOFFSETFROM:-0700
TZOFFSETTO:-0800
TZNAME:PST
DTSTART:20301103T090000
END:STANDARD
BEGIN:DAYLIGHT
TZOFFSETFROM:-0800
TZOFFSETTO:-0700
TZNAME:PDT
DTSTART:20310309T100000
END:DAYLIGHT
BEGIN:STANDARD
TZOFFSETFROM:-0700
TZOFFSETTO:-0800
TZNAME:PST
DTSTART:20311102T090000
END:STANDARD
END:VTIMEZONE
BEGIN:VEVENT
DTSTART;VALUE=DATE:20291126
DTEND;VALUE=DATE:20291127
DTSTAMP:20260419T204807
CREATED:20251217T000044Z
LAST-MODIFIED:20251217T000215Z
UID:10002690-1890345600-1890431999@www.friendsofmadronamarsh.com
SUMMARY:Closed - Preserve & Nature Center
DESCRIPTION:
URL:https://www.friendsofmadronamarsh.com/event/preserve-nature-center-closed-2/2029-11-26/
LOCATION:Madrona Marsh Nature Center\, 3201 Plaza Del Amo\, Torrance\, CA\, 90503\, United States
END:VEVENT
BEGIN:VEVENT
DTSTART;TZID=America/Los_Angeles:20291130T100000
DTEND;TZID=America/Los_Angeles:20291130T120000
DTSTAMP:20260419T204807
CREATED:20260107T195358Z
LAST-MODIFIED:20260227T202426Z
UID:10003025-1890727200-1890734400@www.friendsofmadronamarsh.com
SUMMARY:Friday Fun
DESCRIPTION:Friday Fun is a hands-on program for preschoolers\, age 3-6\, and their parents or guardians. The program is offered at no charge every Friday. The program will incorporate story time\, science\, art\, and a tour emphasizing the chosen topic. \n\n\n\nSome weeks\, there will also be potting or other activities. The topics emphasize respect for all living things and prepare the children (and parents) to be good stewards of the planet. \n\n\n\nPre-registration is required. \n\n\n\nRegistration for the Friday event begins on Tuesday at 10:00 am of the same week.Call the Nature Center to register at (310)782-3989. \n\n\n\nSpace is limited to the first 20 people who sign up \n\n\n\n\n\n\n\n\n\n\n\n\n\n\n\n 
URL:https://www.friendsofmadronamarsh.com/event/fridayfun-3/2029-11-30/
LOCATION:Madrona Marsh Nature Center\, 3201 Plaza Del Amo\, Torrance\, CA\, 90503\, United States
CATEGORIES:Kids Programs
ATTACH;FMTTYPE=image/jpeg:https://www.friendsofmadronamarsh.com/wp-content/uploads/2025/10/kids-den-friday-fun-cindy-kids-madrona-marsh.jpg
END:VEVENT
BEGIN:VEVENT
DTSTART;VALUE=DATE:20291202
DTEND;VALUE=DATE:20291203
DTSTAMP:20260419T204807
CREATED:20251217T000044Z
LAST-MODIFIED:20251217T000215Z
UID:10002691-1890864000-1890950399@www.friendsofmadronamarsh.com
SUMMARY:Closed - Preserve & Nature Center
DESCRIPTION:
URL:https://www.friendsofmadronamarsh.com/event/preserve-nature-center-closed-2/2029-12-02/
LOCATION:Madrona Marsh Nature Center\, 3201 Plaza Del Amo\, Torrance\, CA\, 90503\, United States
END:VEVENT
BEGIN:VEVENT
DTSTART;VALUE=DATE:20291203
DTEND;VALUE=DATE:20291204
DTSTAMP:20260419T204807
CREATED:20251217T000044Z
LAST-MODIFIED:20251217T000215Z
UID:10002692-1890950400-1891036799@www.friendsofmadronamarsh.com
SUMMARY:Closed - Preserve & Nature Center
DESCRIPTION:
URL:https://www.friendsofmadronamarsh.com/event/preserve-nature-center-closed-2/2029-12-03/
LOCATION:Madrona Marsh Nature Center\, 3201 Plaza Del Amo\, Torrance\, CA\, 90503\, United States
END:VEVENT
BEGIN:VEVENT
DTSTART;TZID=America/Los_Angeles:20291206T100000
DTEND;TZID=America/Los_Angeles:20291206T113000
DTSTAMP:20260419T204807
CREATED:20251104T031938Z
LAST-MODIFIED:20260111T210108Z
UID:10001372-1891245600-1891251000@www.friendsofmadronamarsh.com
SUMMARY:Tyke Hike
DESCRIPTION:Bring your young child (ages 0 – 6 yr.) for a walk around the Preserve and an introduction to nature. Listen to birds\, look for frogs\, and get refreshed in the sun and our cool breeze. \nChildren must be accompanied by an adult. \nIt’s held in the Preserve. Meet in front of the Nature Center.\nThis is an outdoor event.
URL:https://www.friendsofmadronamarsh.com/event/tyke-hike/2029-12-06/
LOCATION:Madrona Marsh Nature Center\, 3201 Plaza Del Amo\, Torrance\, CA\, 90503\, United States
CATEGORIES:Docent Tours,Kids Programs
ATTACH;FMTTYPE=image/jpeg:https://www.friendsofmadronamarsh.com/wp-content/uploads/2025/11/docent-opp.jpg
END:VEVENT
BEGIN:VEVENT
DTSTART;TZID=America/Los_Angeles:20291207T100000
DTEND;TZID=America/Los_Angeles:20291207T120000
DTSTAMP:20260419T204807
CREATED:20260107T195358Z
LAST-MODIFIED:20260227T202426Z
UID:10003026-1891332000-1891339200@www.friendsofmadronamarsh.com
SUMMARY:Friday Fun
DESCRIPTION:Friday Fun is a hands-on program for preschoolers\, age 3-6\, and their parents or guardians. The program is offered at no charge every Friday. The program will incorporate story time\, science\, art\, and a tour emphasizing the chosen topic. \n\n\n\nSome weeks\, there will also be potting or other activities. The topics emphasize respect for all living things and prepare the children (and parents) to be good stewards of the planet. \n\n\n\nPre-registration is required. \n\n\n\nRegistration for the Friday event begins on Tuesday at 10:00 am of the same week.Call the Nature Center to register at (310)782-3989. \n\n\n\nSpace is limited to the first 20 people who sign up \n\n\n\n\n\n\n\n\n\n\n\n\n\n\n\n 
URL:https://www.friendsofmadronamarsh.com/event/fridayfun-3/2029-12-07/
LOCATION:Madrona Marsh Nature Center\, 3201 Plaza Del Amo\, Torrance\, CA\, 90503\, United States
CATEGORIES:Kids Programs
ATTACH;FMTTYPE=image/jpeg:https://www.friendsofmadronamarsh.com/wp-content/uploads/2025/10/kids-den-friday-fun-cindy-kids-madrona-marsh.jpg
END:VEVENT
BEGIN:VEVENT
DTSTART;VALUE=DATE:20291209
DTEND;VALUE=DATE:20291210
DTSTAMP:20260419T204807
CREATED:20251217T000044Z
LAST-MODIFIED:20251217T000215Z
UID:10002693-1891468800-1891555199@www.friendsofmadronamarsh.com
SUMMARY:Closed - Preserve & Nature Center
DESCRIPTION:
URL:https://www.friendsofmadronamarsh.com/event/preserve-nature-center-closed-2/2029-12-09/
LOCATION:Madrona Marsh Nature Center\, 3201 Plaza Del Amo\, Torrance\, CA\, 90503\, United States
END:VEVENT
BEGIN:VEVENT
DTSTART;VALUE=DATE:20291210
DTEND;VALUE=DATE:20291211
DTSTAMP:20260419T204807
CREATED:20251217T000044Z
LAST-MODIFIED:20251217T000215Z
UID:10002694-1891555200-1891641599@www.friendsofmadronamarsh.com
SUMMARY:Closed - Preserve & Nature Center
DESCRIPTION:
URL:https://www.friendsofmadronamarsh.com/event/preserve-nature-center-closed-2/2029-12-10/
LOCATION:Madrona Marsh Nature Center\, 3201 Plaza Del Amo\, Torrance\, CA\, 90503\, United States
END:VEVENT
BEGIN:VEVENT
DTSTART;TZID=America/Los_Angeles:20291213T103000
DTEND;TZID=America/Los_Angeles:20291213T120000
DTSTAMP:20260419T204807
CREATED:20260205T214721Z
LAST-MODIFIED:20260205T214721Z
UID:10003307-1891852200-1891857600@www.friendsofmadronamarsh.com
SUMMARY:Nature Storytime
DESCRIPTION:Nature Storytime is a hands-on program for preschoolers ages 2-5 years. \nExplore the wonders of Madrona Marsh through engaging stories and educational learning activities.  Each program is designed to teach the importance of nature in a caring\, nurturing environment. \nPre-registration is required. Call the Nature Center to register at (310)782-3989. \nMust be accompanied by an adult.
URL:https://www.friendsofmadronamarsh.com/event/nature-storytime-3/2029-12-13/
LOCATION:Madrona Marsh Nature Center\, 3201 Plaza Del Amo\, Torrance\, CA\, 90503\, United States
CATEGORIES:Featured Events,Kids Programs
ATTACH;FMTTYPE=image/jpeg:https://www.friendsofmadronamarsh.com/wp-content/uploads/2026/01/Vasi-at-Nature-Storytime.jpeg
END:VEVENT
BEGIN:VEVENT
DTSTART;TZID=America/Los_Angeles:20291214T100000
DTEND;TZID=America/Los_Angeles:20291214T120000
DTSTAMP:20260419T204807
CREATED:20260107T195358Z
LAST-MODIFIED:20260227T202426Z
UID:10003027-1891936800-1891944000@www.friendsofmadronamarsh.com
SUMMARY:Friday Fun
DESCRIPTION:Friday Fun is a hands-on program for preschoolers\, age 3-6\, and their parents or guardians. The program is offered at no charge every Friday. The program will incorporate story time\, science\, art\, and a tour emphasizing the chosen topic. \n\n\n\nSome weeks\, there will also be potting or other activities. The topics emphasize respect for all living things and prepare the children (and parents) to be good stewards of the planet. \n\n\n\nPre-registration is required. \n\n\n\nRegistration for the Friday event begins on Tuesday at 10:00 am of the same week.Call the Nature Center to register at (310)782-3989. \n\n\n\nSpace is limited to the first 20 people who sign up \n\n\n\n\n\n\n\n\n\n\n\n\n\n\n\n 
URL:https://www.friendsofmadronamarsh.com/event/fridayfun-3/2029-12-14/
LOCATION:Madrona Marsh Nature Center\, 3201 Plaza Del Amo\, Torrance\, CA\, 90503\, United States
CATEGORIES:Kids Programs
ATTACH;FMTTYPE=image/jpeg:https://www.friendsofmadronamarsh.com/wp-content/uploads/2025/10/kids-den-friday-fun-cindy-kids-madrona-marsh.jpg
END:VEVENT
BEGIN:VEVENT
DTSTART;TZID=America/Los_Angeles:20291215T090000
DTEND;TZID=America/Los_Angeles:20291215T110000
DTSTAMP:20260419T204807
CREATED:20251104T013240Z
LAST-MODIFIED:20251104T014019Z
UID:10001311-1892019600-1892026800@www.friendsofmadronamarsh.com
SUMMARY:Henrietta Basin Walk
DESCRIPTION:Join our docent-led walk around the Henrietta Basin on the 3rd Saturday of every month and learn about the City’s Stormwater Enhancement Program. Observe birds and other wildlife living in and benefitting from the basin’s open habitat space. \nOpen to all ages! Bring binoculars and wear closed-toed shoes. \nMeet at the Basin’s north entrance on Henrietta St. \nRegistration is encouraged\, but not required. Please call the Nature Center (310) 782-3989 to register. \nHenrietta Basin Walk event page (Facebook)
URL:https://www.friendsofmadronamarsh.com/event/henrietta-basin-walk/2029-12-15/
LOCATION:Henrietta Basin\, 20501-20599 Henrietta St\, Torrance\, CA\, 90503
ATTACH;FMTTYPE=image/jpeg:https://www.friendsofmadronamarsh.com/wp-content/uploads/2025/11/Henrietta-Basin-Walk.jpg
END:VEVENT
BEGIN:VEVENT
DTSTART;VALUE=DATE:20291216
DTEND;VALUE=DATE:20291217
DTSTAMP:20260419T204807
CREATED:20251217T000044Z
LAST-MODIFIED:20251217T000215Z
UID:10002695-1892073600-1892159999@www.friendsofmadronamarsh.com
SUMMARY:Closed - Preserve & Nature Center
DESCRIPTION:
URL:https://www.friendsofmadronamarsh.com/event/preserve-nature-center-closed-2/2029-12-16/
LOCATION:Madrona Marsh Nature Center\, 3201 Plaza Del Amo\, Torrance\, CA\, 90503\, United States
END:VEVENT
BEGIN:VEVENT
DTSTART;VALUE=DATE:20291217
DTEND;VALUE=DATE:20291218
DTSTAMP:20260419T204807
CREATED:20251217T000044Z
LAST-MODIFIED:20251217T000215Z
UID:10002696-1892160000-1892246399@www.friendsofmadronamarsh.com
SUMMARY:Closed - Preserve & Nature Center
DESCRIPTION:
URL:https://www.friendsofmadronamarsh.com/event/preserve-nature-center-closed-2/2029-12-17/
LOCATION:Madrona Marsh Nature Center\, 3201 Plaza Del Amo\, Torrance\, CA\, 90503\, United States
END:VEVENT
BEGIN:VEVENT
DTSTART;TZID=America/Los_Angeles:20291221T100000
DTEND;TZID=America/Los_Angeles:20291221T120000
DTSTAMP:20260419T204807
CREATED:20260107T195358Z
LAST-MODIFIED:20260227T202426Z
UID:10003028-1892541600-1892548800@www.friendsofmadronamarsh.com
SUMMARY:Friday Fun
DESCRIPTION:Friday Fun is a hands-on program for preschoolers\, age 3-6\, and their parents or guardians. The program is offered at no charge every Friday. The program will incorporate story time\, science\, art\, and a tour emphasizing the chosen topic. \n\n\n\nSome weeks\, there will also be potting or other activities. The topics emphasize respect for all living things and prepare the children (and parents) to be good stewards of the planet. \n\n\n\nPre-registration is required. \n\n\n\nRegistration for the Friday event begins on Tuesday at 10:00 am of the same week.Call the Nature Center to register at (310)782-3989. \n\n\n\nSpace is limited to the first 20 people who sign up \n\n\n\n\n\n\n\n\n\n\n\n\n\n\n\n 
URL:https://www.friendsofmadronamarsh.com/event/fridayfun-3/2029-12-21/
LOCATION:Madrona Marsh Nature Center\, 3201 Plaza Del Amo\, Torrance\, CA\, 90503\, United States
CATEGORIES:Kids Programs
ATTACH;FMTTYPE=image/jpeg:https://www.friendsofmadronamarsh.com/wp-content/uploads/2025/10/kids-den-friday-fun-cindy-kids-madrona-marsh.jpg
END:VEVENT
BEGIN:VEVENT
DTSTART;VALUE=DATE:20291223
DTEND;VALUE=DATE:20291224
DTSTAMP:20260419T204807
CREATED:20251217T000044Z
LAST-MODIFIED:20251217T000215Z
UID:10002697-1892678400-1892764799@www.friendsofmadronamarsh.com
SUMMARY:Closed - Preserve & Nature Center
DESCRIPTION:
URL:https://www.friendsofmadronamarsh.com/event/preserve-nature-center-closed-2/2029-12-23/
LOCATION:Madrona Marsh Nature Center\, 3201 Plaza Del Amo\, Torrance\, CA\, 90503\, United States
END:VEVENT
BEGIN:VEVENT
DTSTART;VALUE=DATE:20291224
DTEND;VALUE=DATE:20291225
DTSTAMP:20260419T204807
CREATED:20251217T000044Z
LAST-MODIFIED:20251217T000215Z
UID:10002698-1892764800-1892851199@www.friendsofmadronamarsh.com
SUMMARY:Closed - Preserve & Nature Center
DESCRIPTION:
URL:https://www.friendsofmadronamarsh.com/event/preserve-nature-center-closed-2/2029-12-24/
LOCATION:Madrona Marsh Nature Center\, 3201 Plaza Del Amo\, Torrance\, CA\, 90503\, United States
END:VEVENT
BEGIN:VEVENT
DTSTART;TZID=America/Los_Angeles:20291228T100000
DTEND;TZID=America/Los_Angeles:20291228T120000
DTSTAMP:20260419T204807
CREATED:20260107T195358Z
LAST-MODIFIED:20260227T202426Z
UID:10003029-1893146400-1893153600@www.friendsofmadronamarsh.com
SUMMARY:Friday Fun
DESCRIPTION:Friday Fun is a hands-on program for preschoolers\, age 3-6\, and their parents or guardians. The program is offered at no charge every Friday. The program will incorporate story time\, science\, art\, and a tour emphasizing the chosen topic. \n\n\n\nSome weeks\, there will also be potting or other activities. The topics emphasize respect for all living things and prepare the children (and parents) to be good stewards of the planet. \n\n\n\nPre-registration is required. \n\n\n\nRegistration for the Friday event begins on Tuesday at 10:00 am of the same week.Call the Nature Center to register at (310)782-3989. \n\n\n\nSpace is limited to the first 20 people who sign up \n\n\n\n\n\n\n\n\n\n\n\n\n\n\n\n 
URL:https://www.friendsofmadronamarsh.com/event/fridayfun-3/2029-12-28/
LOCATION:Madrona Marsh Nature Center\, 3201 Plaza Del Amo\, Torrance\, CA\, 90503\, United States
CATEGORIES:Kids Programs
ATTACH;FMTTYPE=image/jpeg:https://www.friendsofmadronamarsh.com/wp-content/uploads/2025/10/kids-den-friday-fun-cindy-kids-madrona-marsh.jpg
END:VEVENT
BEGIN:VEVENT
DTSTART;VALUE=DATE:20291230
DTEND;VALUE=DATE:20291231
DTSTAMP:20260419T204807
CREATED:20251217T000044Z
LAST-MODIFIED:20251217T000215Z
UID:10002699-1893283200-1893369599@www.friendsofmadronamarsh.com
SUMMARY:Closed - Preserve & Nature Center
DESCRIPTION:
URL:https://www.friendsofmadronamarsh.com/event/preserve-nature-center-closed-2/2029-12-30/
LOCATION:Madrona Marsh Nature Center\, 3201 Plaza Del Amo\, Torrance\, CA\, 90503\, United States
END:VEVENT
BEGIN:VEVENT
DTSTART;VALUE=DATE:20291231
DTEND;VALUE=DATE:20300101
DTSTAMP:20260419T204807
CREATED:20251217T000044Z
LAST-MODIFIED:20251217T000215Z
UID:10002700-1893369600-1893455999@www.friendsofmadronamarsh.com
SUMMARY:Closed - Preserve & Nature Center
DESCRIPTION:
URL:https://www.friendsofmadronamarsh.com/event/preserve-nature-center-closed-2/2029-12-31/
LOCATION:Madrona Marsh Nature Center\, 3201 Plaza Del Amo\, Torrance\, CA\, 90503\, United States
END:VEVENT
BEGIN:VEVENT
DTSTART;TZID=America/Los_Angeles:20300103T100000
DTEND;TZID=America/Los_Angeles:20300103T113000
DTSTAMP:20260419T204807
CREATED:20251104T031938Z
LAST-MODIFIED:20260111T210108Z
UID:10001373-1893664800-1893670200@www.friendsofmadronamarsh.com
SUMMARY:Tyke Hike
DESCRIPTION:Bring your young child (ages 0 – 6 yr.) for a walk around the Preserve and an introduction to nature. Listen to birds\, look for frogs\, and get refreshed in the sun and our cool breeze. \nChildren must be accompanied by an adult. \nIt’s held in the Preserve. Meet in front of the Nature Center.\nThis is an outdoor event.
URL:https://www.friendsofmadronamarsh.com/event/tyke-hike/2030-01-03/
LOCATION:Madrona Marsh Nature Center\, 3201 Plaza Del Amo\, Torrance\, CA\, 90503\, United States
CATEGORIES:Docent Tours,Kids Programs
ATTACH;FMTTYPE=image/jpeg:https://www.friendsofmadronamarsh.com/wp-content/uploads/2025/11/docent-opp.jpg
END:VEVENT
BEGIN:VEVENT
DTSTART;TZID=America/Los_Angeles:20300104T100000
DTEND;TZID=America/Los_Angeles:20300104T120000
DTSTAMP:20260419T204807
CREATED:20260107T195358Z
LAST-MODIFIED:20260227T202426Z
UID:10003030-1893751200-1893758400@www.friendsofmadronamarsh.com
SUMMARY:Friday Fun
DESCRIPTION:Friday Fun is a hands-on program for preschoolers\, age 3-6\, and their parents or guardians. The program is offered at no charge every Friday. The program will incorporate story time\, science\, art\, and a tour emphasizing the chosen topic. \n\n\n\nSome weeks\, there will also be potting or other activities. The topics emphasize respect for all living things and prepare the children (and parents) to be good stewards of the planet. \n\n\n\nPre-registration is required. \n\n\n\nRegistration for the Friday event begins on Tuesday at 10:00 am of the same week.Call the Nature Center to register at (310)782-3989. \n\n\n\nSpace is limited to the first 20 people who sign up \n\n\n\n\n\n\n\n\n\n\n\n\n\n\n\n 
URL:https://www.friendsofmadronamarsh.com/event/fridayfun-3/2030-01-04/
LOCATION:Madrona Marsh Nature Center\, 3201 Plaza Del Amo\, Torrance\, CA\, 90503\, United States
CATEGORIES:Kids Programs
ATTACH;FMTTYPE=image/jpeg:https://www.friendsofmadronamarsh.com/wp-content/uploads/2025/10/kids-den-friday-fun-cindy-kids-madrona-marsh.jpg
END:VEVENT
BEGIN:VEVENT
DTSTART;VALUE=DATE:20300106
DTEND;VALUE=DATE:20300107
DTSTAMP:20260419T204807
CREATED:20251217T000044Z
LAST-MODIFIED:20251217T000215Z
UID:10002701-1893888000-1893974399@www.friendsofmadronamarsh.com
SUMMARY:Closed - Preserve & Nature Center
DESCRIPTION:
URL:https://www.friendsofmadronamarsh.com/event/preserve-nature-center-closed-2/2030-01-06/
LOCATION:Madrona Marsh Nature Center\, 3201 Plaza Del Amo\, Torrance\, CA\, 90503\, United States
END:VEVENT
BEGIN:VEVENT
DTSTART;VALUE=DATE:20300107
DTEND;VALUE=DATE:20300108
DTSTAMP:20260419T204807
CREATED:20251217T000044Z
LAST-MODIFIED:20251217T000215Z
UID:10002702-1893974400-1894060799@www.friendsofmadronamarsh.com
SUMMARY:Closed - Preserve & Nature Center
DESCRIPTION:
URL:https://www.friendsofmadronamarsh.com/event/preserve-nature-center-closed-2/2030-01-07/
LOCATION:Madrona Marsh Nature Center\, 3201 Plaza Del Amo\, Torrance\, CA\, 90503\, United States
END:VEVENT
BEGIN:VEVENT
DTSTART;TZID=America/Los_Angeles:20300110T103000
DTEND;TZID=America/Los_Angeles:20300110T120000
DTSTAMP:20260419T204807
CREATED:20260205T214721Z
LAST-MODIFIED:20260205T214721Z
UID:10003308-1894271400-1894276800@www.friendsofmadronamarsh.com
SUMMARY:Nature Storytime
DESCRIPTION:Nature Storytime is a hands-on program for preschoolers ages 2-5 years. \nExplore the wonders of Madrona Marsh through engaging stories and educational learning activities.  Each program is designed to teach the importance of nature in a caring\, nurturing environment. \nPre-registration is required. Call the Nature Center to register at (310)782-3989. \nMust be accompanied by an adult.
URL:https://www.friendsofmadronamarsh.com/event/nature-storytime-3/2030-01-10/
LOCATION:Madrona Marsh Nature Center\, 3201 Plaza Del Amo\, Torrance\, CA\, 90503\, United States
CATEGORIES:Featured Events,Kids Programs
ATTACH;FMTTYPE=image/jpeg:https://www.friendsofmadronamarsh.com/wp-content/uploads/2026/01/Vasi-at-Nature-Storytime.jpeg
END:VEVENT
BEGIN:VEVENT
DTSTART;TZID=America/Los_Angeles:20300111T100000
DTEND;TZID=America/Los_Angeles:20300111T120000
DTSTAMP:20260419T204807
CREATED:20260107T195358Z
LAST-MODIFIED:20260227T202426Z
UID:10003031-1894356000-1894363200@www.friendsofmadronamarsh.com
SUMMARY:Friday Fun
DESCRIPTION:Friday Fun is a hands-on program for preschoolers\, age 3-6\, and their parents or guardians. The program is offered at no charge every Friday. The program will incorporate story time\, science\, art\, and a tour emphasizing the chosen topic. \n\n\n\nSome weeks\, there will also be potting or other activities. The topics emphasize respect for all living things and prepare the children (and parents) to be good stewards of the planet. \n\n\n\nPre-registration is required. \n\n\n\nRegistration for the Friday event begins on Tuesday at 10:00 am of the same week.Call the Nature Center to register at (310)782-3989. \n\n\n\nSpace is limited to the first 20 people who sign up \n\n\n\n\n\n\n\n\n\n\n\n\n\n\n\n 
URL:https://www.friendsofmadronamarsh.com/event/fridayfun-3/2030-01-11/
LOCATION:Madrona Marsh Nature Center\, 3201 Plaza Del Amo\, Torrance\, CA\, 90503\, United States
CATEGORIES:Kids Programs
ATTACH;FMTTYPE=image/jpeg:https://www.friendsofmadronamarsh.com/wp-content/uploads/2025/10/kids-den-friday-fun-cindy-kids-madrona-marsh.jpg
END:VEVENT
BEGIN:VEVENT
DTSTART;VALUE=DATE:20300113
DTEND;VALUE=DATE:20300114
DTSTAMP:20260419T204807
CREATED:20251217T000044Z
LAST-MODIFIED:20251217T000215Z
UID:10002703-1894492800-1894579199@www.friendsofmadronamarsh.com
SUMMARY:Closed - Preserve & Nature Center
DESCRIPTION:
URL:https://www.friendsofmadronamarsh.com/event/preserve-nature-center-closed-2/2030-01-13/
LOCATION:Madrona Marsh Nature Center\, 3201 Plaza Del Amo\, Torrance\, CA\, 90503\, United States
END:VEVENT
BEGIN:VEVENT
DTSTART;VALUE=DATE:20300114
DTEND;VALUE=DATE:20300115
DTSTAMP:20260419T204807
CREATED:20251217T000044Z
LAST-MODIFIED:20251217T000215Z
UID:10002704-1894579200-1894665599@www.friendsofmadronamarsh.com
SUMMARY:Closed - Preserve & Nature Center
DESCRIPTION:
URL:https://www.friendsofmadronamarsh.com/event/preserve-nature-center-closed-2/2030-01-14/
LOCATION:Madrona Marsh Nature Center\, 3201 Plaza Del Amo\, Torrance\, CA\, 90503\, United States
END:VEVENT
BEGIN:VEVENT
DTSTART;TZID=America/Los_Angeles:20300118T100000
DTEND;TZID=America/Los_Angeles:20300118T120000
DTSTAMP:20260419T204807
CREATED:20260107T195358Z
LAST-MODIFIED:20260227T202426Z
UID:10003032-1894960800-1894968000@www.friendsofmadronamarsh.com
SUMMARY:Friday Fun
DESCRIPTION:Friday Fun is a hands-on program for preschoolers\, age 3-6\, and their parents or guardians. The program is offered at no charge every Friday. The program will incorporate story time\, science\, art\, and a tour emphasizing the chosen topic. \n\n\n\nSome weeks\, there will also be potting or other activities. The topics emphasize respect for all living things and prepare the children (and parents) to be good stewards of the planet. \n\n\n\nPre-registration is required. \n\n\n\nRegistration for the Friday event begins on Tuesday at 10:00 am of the same week.Call the Nature Center to register at (310)782-3989. \n\n\n\nSpace is limited to the first 20 people who sign up \n\n\n\n\n\n\n\n\n\n\n\n\n\n\n\n 
URL:https://www.friendsofmadronamarsh.com/event/fridayfun-3/2030-01-18/
LOCATION:Madrona Marsh Nature Center\, 3201 Plaza Del Amo\, Torrance\, CA\, 90503\, United States
CATEGORIES:Kids Programs
ATTACH;FMTTYPE=image/jpeg:https://www.friendsofmadronamarsh.com/wp-content/uploads/2025/10/kids-den-friday-fun-cindy-kids-madrona-marsh.jpg
END:VEVENT
BEGIN:VEVENT
DTSTART;TZID=America/Los_Angeles:20300119T090000
DTEND;TZID=America/Los_Angeles:20300119T110000
DTSTAMP:20260419T204807
CREATED:20251104T013240Z
LAST-MODIFIED:20251104T014019Z
UID:10001312-1895043600-1895050800@www.friendsofmadronamarsh.com
SUMMARY:Henrietta Basin Walk
DESCRIPTION:Join our docent-led walk around the Henrietta Basin on the 3rd Saturday of every month and learn about the City’s Stormwater Enhancement Program. Observe birds and other wildlife living in and benefitting from the basin’s open habitat space. \nOpen to all ages! Bring binoculars and wear closed-toed shoes. \nMeet at the Basin’s north entrance on Henrietta St. \nRegistration is encouraged\, but not required. Please call the Nature Center (310) 782-3989 to register. \nHenrietta Basin Walk event page (Facebook)
URL:https://www.friendsofmadronamarsh.com/event/henrietta-basin-walk/2030-01-19/
LOCATION:Henrietta Basin\, 20501-20599 Henrietta St\, Torrance\, CA\, 90503
ATTACH;FMTTYPE=image/jpeg:https://www.friendsofmadronamarsh.com/wp-content/uploads/2025/11/Henrietta-Basin-Walk.jpg
END:VEVENT
BEGIN:VEVENT
DTSTART;VALUE=DATE:20300120
DTEND;VALUE=DATE:20300121
DTSTAMP:20260419T204807
CREATED:20251217T000044Z
LAST-MODIFIED:20251217T000215Z
UID:10002705-1895097600-1895183999@www.friendsofmadronamarsh.com
SUMMARY:Closed - Preserve & Nature Center
DESCRIPTION:
URL:https://www.friendsofmadronamarsh.com/event/preserve-nature-center-closed-2/2030-01-20/
LOCATION:Madrona Marsh Nature Center\, 3201 Plaza Del Amo\, Torrance\, CA\, 90503\, United States
END:VEVENT
END:VCALENDAR