BEGIN:VCALENDAR
VERSION:2.0
PRODID:-//Friends of Madrona Marsh - ECPv6.15.20//NONSGML v1.0//EN
CALSCALE:GREGORIAN
METHOD:PUBLISH
X-WR-CALNAME:Friends of Madrona Marsh
X-ORIGINAL-URL:https://www.friendsofmadronamarsh.com
X-WR-CALDESC:Events for Friends of Madrona Marsh
REFRESH-INTERVAL;VALUE=DURATION:PT1H
X-Robots-Tag:noindex
X-PUBLISHED-TTL:PT1H
BEGIN:VTIMEZONE
TZID:America/Los_Angeles
BEGIN:DAYLIGHT
TZOFFSETFROM:-0800
TZOFFSETTO:-0700
TZNAME:PDT
DTSTART:20290311T100000
END:DAYLIGHT
BEGIN:STANDARD
TZOFFSETFROM:-0700
TZOFFSETTO:-0800
TZNAME:PST
DTSTART:20291104T090000
END:STANDARD
BEGIN:DAYLIGHT
TZOFFSETFROM:-0800
TZOFFSETTO:-0700
TZNAME:PDT
DTSTART:20300310T100000
END:DAYLIGHT
BEGIN:STANDARD
TZOFFSETFROM:-0700
TZOFFSETTO:-0800
TZNAME:PST
DTSTART:20301103T090000
END:STANDARD
BEGIN:DAYLIGHT
TZOFFSETFROM:-0800
TZOFFSETTO:-0700
TZNAME:PDT
DTSTART:20310309T100000
END:DAYLIGHT
BEGIN:STANDARD
TZOFFSETFROM:-0700
TZOFFSETTO:-0800
TZNAME:PST
DTSTART:20311102T090000
END:STANDARD
END:VTIMEZONE
BEGIN:VEVENT
DTSTART;TZID=America/Los_Angeles:20300111T100000
DTEND;TZID=America/Los_Angeles:20300111T120000
DTSTAMP:20260419T234233
CREATED:20260107T195358Z
LAST-MODIFIED:20260227T202426Z
UID:10003031-1894356000-1894363200@www.friendsofmadronamarsh.com
SUMMARY:Friday Fun
DESCRIPTION:Friday Fun is a hands-on program for preschoolers\, age 3-6\, and their parents or guardians. The program is offered at no charge every Friday. The program will incorporate story time\, science\, art\, and a tour emphasizing the chosen topic. \n\n\n\nSome weeks\, there will also be potting or other activities. The topics emphasize respect for all living things and prepare the children (and parents) to be good stewards of the planet. \n\n\n\nPre-registration is required. \n\n\n\nRegistration for the Friday event begins on Tuesday at 10:00 am of the same week.Call the Nature Center to register at (310)782-3989. \n\n\n\nSpace is limited to the first 20 people who sign up \n\n\n\n\n\n\n\n\n\n\n\n\n\n\n\n 
URL:https://www.friendsofmadronamarsh.com/event/fridayfun-3/2030-01-11/
LOCATION:Madrona Marsh Nature Center\, 3201 Plaza Del Amo\, Torrance\, CA\, 90503\, United States
CATEGORIES:Kids Programs
ATTACH;FMTTYPE=image/jpeg:https://www.friendsofmadronamarsh.com/wp-content/uploads/2025/10/kids-den-friday-fun-cindy-kids-madrona-marsh.jpg
END:VEVENT
BEGIN:VEVENT
DTSTART;VALUE=DATE:20300113
DTEND;VALUE=DATE:20300114
DTSTAMP:20260419T234233
CREATED:20251217T000044Z
LAST-MODIFIED:20251217T000215Z
UID:10002703-1894492800-1894579199@www.friendsofmadronamarsh.com
SUMMARY:Closed - Preserve & Nature Center
DESCRIPTION:
URL:https://www.friendsofmadronamarsh.com/event/preserve-nature-center-closed-2/2030-01-13/
LOCATION:Madrona Marsh Nature Center\, 3201 Plaza Del Amo\, Torrance\, CA\, 90503\, United States
END:VEVENT
BEGIN:VEVENT
DTSTART;VALUE=DATE:20300114
DTEND;VALUE=DATE:20300115
DTSTAMP:20260419T234233
CREATED:20251217T000044Z
LAST-MODIFIED:20251217T000215Z
UID:10002704-1894579200-1894665599@www.friendsofmadronamarsh.com
SUMMARY:Closed - Preserve & Nature Center
DESCRIPTION:
URL:https://www.friendsofmadronamarsh.com/event/preserve-nature-center-closed-2/2030-01-14/
LOCATION:Madrona Marsh Nature Center\, 3201 Plaza Del Amo\, Torrance\, CA\, 90503\, United States
END:VEVENT
BEGIN:VEVENT
DTSTART;TZID=America/Los_Angeles:20300118T100000
DTEND;TZID=America/Los_Angeles:20300118T120000
DTSTAMP:20260419T234233
CREATED:20260107T195358Z
LAST-MODIFIED:20260227T202426Z
UID:10003032-1894960800-1894968000@www.friendsofmadronamarsh.com
SUMMARY:Friday Fun
DESCRIPTION:Friday Fun is a hands-on program for preschoolers\, age 3-6\, and their parents or guardians. The program is offered at no charge every Friday. The program will incorporate story time\, science\, art\, and a tour emphasizing the chosen topic. \n\n\n\nSome weeks\, there will also be potting or other activities. The topics emphasize respect for all living things and prepare the children (and parents) to be good stewards of the planet. \n\n\n\nPre-registration is required. \n\n\n\nRegistration for the Friday event begins on Tuesday at 10:00 am of the same week.Call the Nature Center to register at (310)782-3989. \n\n\n\nSpace is limited to the first 20 people who sign up \n\n\n\n\n\n\n\n\n\n\n\n\n\n\n\n 
URL:https://www.friendsofmadronamarsh.com/event/fridayfun-3/2030-01-18/
LOCATION:Madrona Marsh Nature Center\, 3201 Plaza Del Amo\, Torrance\, CA\, 90503\, United States
CATEGORIES:Kids Programs
ATTACH;FMTTYPE=image/jpeg:https://www.friendsofmadronamarsh.com/wp-content/uploads/2025/10/kids-den-friday-fun-cindy-kids-madrona-marsh.jpg
END:VEVENT
BEGIN:VEVENT
DTSTART;TZID=America/Los_Angeles:20300119T090000
DTEND;TZID=America/Los_Angeles:20300119T110000
DTSTAMP:20260419T234233
CREATED:20251104T013240Z
LAST-MODIFIED:20251104T014019Z
UID:10001312-1895043600-1895050800@www.friendsofmadronamarsh.com
SUMMARY:Henrietta Basin Walk
DESCRIPTION:Join our docent-led walk around the Henrietta Basin on the 3rd Saturday of every month and learn about the City’s Stormwater Enhancement Program. Observe birds and other wildlife living in and benefitting from the basin’s open habitat space. \nOpen to all ages! Bring binoculars and wear closed-toed shoes. \nMeet at the Basin’s north entrance on Henrietta St. \nRegistration is encouraged\, but not required. Please call the Nature Center (310) 782-3989 to register. \nHenrietta Basin Walk event page (Facebook)
URL:https://www.friendsofmadronamarsh.com/event/henrietta-basin-walk/2030-01-19/
LOCATION:Henrietta Basin\, 20501-20599 Henrietta St\, Torrance\, CA\, 90503
ATTACH;FMTTYPE=image/jpeg:https://www.friendsofmadronamarsh.com/wp-content/uploads/2025/11/Henrietta-Basin-Walk.jpg
END:VEVENT
BEGIN:VEVENT
DTSTART;VALUE=DATE:20300120
DTEND;VALUE=DATE:20300121
DTSTAMP:20260419T234233
CREATED:20251217T000044Z
LAST-MODIFIED:20251217T000215Z
UID:10002705-1895097600-1895183999@www.friendsofmadronamarsh.com
SUMMARY:Closed - Preserve & Nature Center
DESCRIPTION:
URL:https://www.friendsofmadronamarsh.com/event/preserve-nature-center-closed-2/2030-01-20/
LOCATION:Madrona Marsh Nature Center\, 3201 Plaza Del Amo\, Torrance\, CA\, 90503\, United States
END:VEVENT
BEGIN:VEVENT
DTSTART;VALUE=DATE:20300121
DTEND;VALUE=DATE:20300122
DTSTAMP:20260419T234233
CREATED:20251217T000044Z
LAST-MODIFIED:20251217T000215Z
UID:10002706-1895184000-1895270399@www.friendsofmadronamarsh.com
SUMMARY:Closed - Preserve & Nature Center
DESCRIPTION:
URL:https://www.friendsofmadronamarsh.com/event/preserve-nature-center-closed-2/2030-01-21/
LOCATION:Madrona Marsh Nature Center\, 3201 Plaza Del Amo\, Torrance\, CA\, 90503\, United States
END:VEVENT
BEGIN:VEVENT
DTSTART;TZID=America/Los_Angeles:20300125T100000
DTEND;TZID=America/Los_Angeles:20300125T120000
DTSTAMP:20260419T234233
CREATED:20260107T195358Z
LAST-MODIFIED:20260227T202426Z
UID:10003033-1895565600-1895572800@www.friendsofmadronamarsh.com
SUMMARY:Friday Fun
DESCRIPTION:Friday Fun is a hands-on program for preschoolers\, age 3-6\, and their parents or guardians. The program is offered at no charge every Friday. The program will incorporate story time\, science\, art\, and a tour emphasizing the chosen topic. \n\n\n\nSome weeks\, there will also be potting or other activities. The topics emphasize respect for all living things and prepare the children (and parents) to be good stewards of the planet. \n\n\n\nPre-registration is required. \n\n\n\nRegistration for the Friday event begins on Tuesday at 10:00 am of the same week.Call the Nature Center to register at (310)782-3989. \n\n\n\nSpace is limited to the first 20 people who sign up \n\n\n\n\n\n\n\n\n\n\n\n\n\n\n\n 
URL:https://www.friendsofmadronamarsh.com/event/fridayfun-3/2030-01-25/
LOCATION:Madrona Marsh Nature Center\, 3201 Plaza Del Amo\, Torrance\, CA\, 90503\, United States
CATEGORIES:Kids Programs
ATTACH;FMTTYPE=image/jpeg:https://www.friendsofmadronamarsh.com/wp-content/uploads/2025/10/kids-den-friday-fun-cindy-kids-madrona-marsh.jpg
END:VEVENT
BEGIN:VEVENT
DTSTART;VALUE=DATE:20300127
DTEND;VALUE=DATE:20300128
DTSTAMP:20260419T234233
CREATED:20251217T000044Z
LAST-MODIFIED:20251217T000215Z
UID:10002707-1895702400-1895788799@www.friendsofmadronamarsh.com
SUMMARY:Closed - Preserve & Nature Center
DESCRIPTION:
URL:https://www.friendsofmadronamarsh.com/event/preserve-nature-center-closed-2/2030-01-27/
LOCATION:Madrona Marsh Nature Center\, 3201 Plaza Del Amo\, Torrance\, CA\, 90503\, United States
END:VEVENT
BEGIN:VEVENT
DTSTART;VALUE=DATE:20300128
DTEND;VALUE=DATE:20300129
DTSTAMP:20260419T234233
CREATED:20251217T000044Z
LAST-MODIFIED:20251217T000215Z
UID:10002708-1895788800-1895875199@www.friendsofmadronamarsh.com
SUMMARY:Closed - Preserve & Nature Center
DESCRIPTION:
URL:https://www.friendsofmadronamarsh.com/event/preserve-nature-center-closed-2/2030-01-28/
LOCATION:Madrona Marsh Nature Center\, 3201 Plaza Del Amo\, Torrance\, CA\, 90503\, United States
END:VEVENT
BEGIN:VEVENT
DTSTART;TZID=America/Los_Angeles:20300201T100000
DTEND;TZID=America/Los_Angeles:20300201T120000
DTSTAMP:20260419T234233
CREATED:20260107T195358Z
LAST-MODIFIED:20260227T202426Z
UID:10003034-1896170400-1896177600@www.friendsofmadronamarsh.com
SUMMARY:Friday Fun
DESCRIPTION:Friday Fun is a hands-on program for preschoolers\, age 3-6\, and their parents or guardians. The program is offered at no charge every Friday. The program will incorporate story time\, science\, art\, and a tour emphasizing the chosen topic. \n\n\n\nSome weeks\, there will also be potting or other activities. The topics emphasize respect for all living things and prepare the children (and parents) to be good stewards of the planet. \n\n\n\nPre-registration is required. \n\n\n\nRegistration for the Friday event begins on Tuesday at 10:00 am of the same week.Call the Nature Center to register at (310)782-3989. \n\n\n\nSpace is limited to the first 20 people who sign up \n\n\n\n\n\n\n\n\n\n\n\n\n\n\n\n 
URL:https://www.friendsofmadronamarsh.com/event/fridayfun-3/2030-02-01/
LOCATION:Madrona Marsh Nature Center\, 3201 Plaza Del Amo\, Torrance\, CA\, 90503\, United States
CATEGORIES:Kids Programs
ATTACH;FMTTYPE=image/jpeg:https://www.friendsofmadronamarsh.com/wp-content/uploads/2025/10/kids-den-friday-fun-cindy-kids-madrona-marsh.jpg
END:VEVENT
BEGIN:VEVENT
DTSTART;VALUE=DATE:20300203
DTEND;VALUE=DATE:20300204
DTSTAMP:20260419T234233
CREATED:20251217T000044Z
LAST-MODIFIED:20251217T000215Z
UID:10002709-1896307200-1896393599@www.friendsofmadronamarsh.com
SUMMARY:Closed - Preserve & Nature Center
DESCRIPTION:
URL:https://www.friendsofmadronamarsh.com/event/preserve-nature-center-closed-2/2030-02-03/
LOCATION:Madrona Marsh Nature Center\, 3201 Plaza Del Amo\, Torrance\, CA\, 90503\, United States
END:VEVENT
BEGIN:VEVENT
DTSTART;VALUE=DATE:20300204
DTEND;VALUE=DATE:20300205
DTSTAMP:20260419T234233
CREATED:20251217T000044Z
LAST-MODIFIED:20251217T000215Z
UID:10002710-1896393600-1896479999@www.friendsofmadronamarsh.com
SUMMARY:Closed - Preserve & Nature Center
DESCRIPTION:
URL:https://www.friendsofmadronamarsh.com/event/preserve-nature-center-closed-2/2030-02-04/
LOCATION:Madrona Marsh Nature Center\, 3201 Plaza Del Amo\, Torrance\, CA\, 90503\, United States
END:VEVENT
BEGIN:VEVENT
DTSTART;TZID=America/Los_Angeles:20300207T100000
DTEND;TZID=America/Los_Angeles:20300207T113000
DTSTAMP:20260419T234233
CREATED:20251104T031938Z
LAST-MODIFIED:20260111T210108Z
UID:10001374-1896688800-1896694200@www.friendsofmadronamarsh.com
SUMMARY:Tyke Hike
DESCRIPTION:Bring your young child (ages 0 – 6 yr.) for a walk around the Preserve and an introduction to nature. Listen to birds\, look for frogs\, and get refreshed in the sun and our cool breeze. \nChildren must be accompanied by an adult. \nIt’s held in the Preserve. Meet in front of the Nature Center.\nThis is an outdoor event.
URL:https://www.friendsofmadronamarsh.com/event/tyke-hike/2030-02-07/
LOCATION:Madrona Marsh Nature Center\, 3201 Plaza Del Amo\, Torrance\, CA\, 90503\, United States
CATEGORIES:Docent Tours,Kids Programs
ATTACH;FMTTYPE=image/jpeg:https://www.friendsofmadronamarsh.com/wp-content/uploads/2025/11/docent-opp.jpg
END:VEVENT
BEGIN:VEVENT
DTSTART;TZID=America/Los_Angeles:20300208T100000
DTEND;TZID=America/Los_Angeles:20300208T120000
DTSTAMP:20260419T234233
CREATED:20260107T195358Z
LAST-MODIFIED:20260227T202426Z
UID:10003035-1896775200-1896782400@www.friendsofmadronamarsh.com
SUMMARY:Friday Fun
DESCRIPTION:Friday Fun is a hands-on program for preschoolers\, age 3-6\, and their parents or guardians. The program is offered at no charge every Friday. The program will incorporate story time\, science\, art\, and a tour emphasizing the chosen topic. \n\n\n\nSome weeks\, there will also be potting or other activities. The topics emphasize respect for all living things and prepare the children (and parents) to be good stewards of the planet. \n\n\n\nPre-registration is required. \n\n\n\nRegistration for the Friday event begins on Tuesday at 10:00 am of the same week.Call the Nature Center to register at (310)782-3989. \n\n\n\nSpace is limited to the first 20 people who sign up \n\n\n\n\n\n\n\n\n\n\n\n\n\n\n\n 
URL:https://www.friendsofmadronamarsh.com/event/fridayfun-3/2030-02-08/
LOCATION:Madrona Marsh Nature Center\, 3201 Plaza Del Amo\, Torrance\, CA\, 90503\, United States
CATEGORIES:Kids Programs
ATTACH;FMTTYPE=image/jpeg:https://www.friendsofmadronamarsh.com/wp-content/uploads/2025/10/kids-den-friday-fun-cindy-kids-madrona-marsh.jpg
END:VEVENT
BEGIN:VEVENT
DTSTART;VALUE=DATE:20300210
DTEND;VALUE=DATE:20300211
DTSTAMP:20260419T234233
CREATED:20251217T000044Z
LAST-MODIFIED:20251217T000215Z
UID:10002711-1896912000-1896998399@www.friendsofmadronamarsh.com
SUMMARY:Closed - Preserve & Nature Center
DESCRIPTION:
URL:https://www.friendsofmadronamarsh.com/event/preserve-nature-center-closed-2/2030-02-10/
LOCATION:Madrona Marsh Nature Center\, 3201 Plaza Del Amo\, Torrance\, CA\, 90503\, United States
END:VEVENT
BEGIN:VEVENT
DTSTART;VALUE=DATE:20300211
DTEND;VALUE=DATE:20300212
DTSTAMP:20260419T234233
CREATED:20251217T000044Z
LAST-MODIFIED:20251217T000215Z
UID:10002712-1896998400-1897084799@www.friendsofmadronamarsh.com
SUMMARY:Closed - Preserve & Nature Center
DESCRIPTION:
URL:https://www.friendsofmadronamarsh.com/event/preserve-nature-center-closed-2/2030-02-11/
LOCATION:Madrona Marsh Nature Center\, 3201 Plaza Del Amo\, Torrance\, CA\, 90503\, United States
END:VEVENT
BEGIN:VEVENT
DTSTART;TZID=America/Los_Angeles:20300214T103000
DTEND;TZID=America/Los_Angeles:20300214T120000
DTSTAMP:20260419T234233
CREATED:20260205T214721Z
LAST-MODIFIED:20260205T214721Z
UID:10003309-1897295400-1897300800@www.friendsofmadronamarsh.com
SUMMARY:Nature Storytime
DESCRIPTION:Nature Storytime is a hands-on program for preschoolers ages 2-5 years. \nExplore the wonders of Madrona Marsh through engaging stories and educational learning activities.  Each program is designed to teach the importance of nature in a caring\, nurturing environment. \nPre-registration is required. Call the Nature Center to register at (310)782-3989. \nMust be accompanied by an adult.
URL:https://www.friendsofmadronamarsh.com/event/nature-storytime-3/2030-02-14/
LOCATION:Madrona Marsh Nature Center\, 3201 Plaza Del Amo\, Torrance\, CA\, 90503\, United States
CATEGORIES:Featured Events,Kids Programs
ATTACH;FMTTYPE=image/jpeg:https://www.friendsofmadronamarsh.com/wp-content/uploads/2026/01/Vasi-at-Nature-Storytime.jpeg
END:VEVENT
BEGIN:VEVENT
DTSTART;TZID=America/Los_Angeles:20300215T100000
DTEND;TZID=America/Los_Angeles:20300215T120000
DTSTAMP:20260419T234233
CREATED:20260107T195358Z
LAST-MODIFIED:20260227T202426Z
UID:10003036-1897380000-1897387200@www.friendsofmadronamarsh.com
SUMMARY:Friday Fun
DESCRIPTION:Friday Fun is a hands-on program for preschoolers\, age 3-6\, and their parents or guardians. The program is offered at no charge every Friday. The program will incorporate story time\, science\, art\, and a tour emphasizing the chosen topic. \n\n\n\nSome weeks\, there will also be potting or other activities. The topics emphasize respect for all living things and prepare the children (and parents) to be good stewards of the planet. \n\n\n\nPre-registration is required. \n\n\n\nRegistration for the Friday event begins on Tuesday at 10:00 am of the same week.Call the Nature Center to register at (310)782-3989. \n\n\n\nSpace is limited to the first 20 people who sign up \n\n\n\n\n\n\n\n\n\n\n\n\n\n\n\n 
URL:https://www.friendsofmadronamarsh.com/event/fridayfun-3/2030-02-15/
LOCATION:Madrona Marsh Nature Center\, 3201 Plaza Del Amo\, Torrance\, CA\, 90503\, United States
CATEGORIES:Kids Programs
ATTACH;FMTTYPE=image/jpeg:https://www.friendsofmadronamarsh.com/wp-content/uploads/2025/10/kids-den-friday-fun-cindy-kids-madrona-marsh.jpg
END:VEVENT
BEGIN:VEVENT
DTSTART;TZID=America/Los_Angeles:20300216T090000
DTEND;TZID=America/Los_Angeles:20300216T110000
DTSTAMP:20260419T234233
CREATED:20251104T013240Z
LAST-MODIFIED:20251104T014019Z
UID:10001313-1897462800-1897470000@www.friendsofmadronamarsh.com
SUMMARY:Henrietta Basin Walk
DESCRIPTION:Join our docent-led walk around the Henrietta Basin on the 3rd Saturday of every month and learn about the City’s Stormwater Enhancement Program. Observe birds and other wildlife living in and benefitting from the basin’s open habitat space. \nOpen to all ages! Bring binoculars and wear closed-toed shoes. \nMeet at the Basin’s north entrance on Henrietta St. \nRegistration is encouraged\, but not required. Please call the Nature Center (310) 782-3989 to register. \nHenrietta Basin Walk event page (Facebook)
URL:https://www.friendsofmadronamarsh.com/event/henrietta-basin-walk/2030-02-16/
LOCATION:Henrietta Basin\, 20501-20599 Henrietta St\, Torrance\, CA\, 90503
ATTACH;FMTTYPE=image/jpeg:https://www.friendsofmadronamarsh.com/wp-content/uploads/2025/11/Henrietta-Basin-Walk.jpg
END:VEVENT
BEGIN:VEVENT
DTSTART;VALUE=DATE:20300217
DTEND;VALUE=DATE:20300218
DTSTAMP:20260419T234233
CREATED:20251217T000044Z
LAST-MODIFIED:20251217T000215Z
UID:10002713-1897516800-1897603199@www.friendsofmadronamarsh.com
SUMMARY:Closed - Preserve & Nature Center
DESCRIPTION:
URL:https://www.friendsofmadronamarsh.com/event/preserve-nature-center-closed-2/2030-02-17/
LOCATION:Madrona Marsh Nature Center\, 3201 Plaza Del Amo\, Torrance\, CA\, 90503\, United States
END:VEVENT
BEGIN:VEVENT
DTSTART;VALUE=DATE:20300218
DTEND;VALUE=DATE:20300219
DTSTAMP:20260419T234233
CREATED:20251217T000044Z
LAST-MODIFIED:20251217T000215Z
UID:10002714-1897603200-1897689599@www.friendsofmadronamarsh.com
SUMMARY:Closed - Preserve & Nature Center
DESCRIPTION:
URL:https://www.friendsofmadronamarsh.com/event/preserve-nature-center-closed-2/2030-02-18/
LOCATION:Madrona Marsh Nature Center\, 3201 Plaza Del Amo\, Torrance\, CA\, 90503\, United States
END:VEVENT
BEGIN:VEVENT
DTSTART;TZID=America/Los_Angeles:20300222T100000
DTEND;TZID=America/Los_Angeles:20300222T120000
DTSTAMP:20260419T234233
CREATED:20260107T195358Z
LAST-MODIFIED:20260227T202426Z
UID:10003037-1897984800-1897992000@www.friendsofmadronamarsh.com
SUMMARY:Friday Fun
DESCRIPTION:Friday Fun is a hands-on program for preschoolers\, age 3-6\, and their parents or guardians. The program is offered at no charge every Friday. The program will incorporate story time\, science\, art\, and a tour emphasizing the chosen topic. \n\n\n\nSome weeks\, there will also be potting or other activities. The topics emphasize respect for all living things and prepare the children (and parents) to be good stewards of the planet. \n\n\n\nPre-registration is required. \n\n\n\nRegistration for the Friday event begins on Tuesday at 10:00 am of the same week.Call the Nature Center to register at (310)782-3989. \n\n\n\nSpace is limited to the first 20 people who sign up \n\n\n\n\n\n\n\n\n\n\n\n\n\n\n\n 
URL:https://www.friendsofmadronamarsh.com/event/fridayfun-3/2030-02-22/
LOCATION:Madrona Marsh Nature Center\, 3201 Plaza Del Amo\, Torrance\, CA\, 90503\, United States
CATEGORIES:Kids Programs
ATTACH;FMTTYPE=image/jpeg:https://www.friendsofmadronamarsh.com/wp-content/uploads/2025/10/kids-den-friday-fun-cindy-kids-madrona-marsh.jpg
END:VEVENT
BEGIN:VEVENT
DTSTART;VALUE=DATE:20300224
DTEND;VALUE=DATE:20300225
DTSTAMP:20260419T234233
CREATED:20251217T000044Z
LAST-MODIFIED:20251217T000215Z
UID:10002715-1898121600-1898207999@www.friendsofmadronamarsh.com
SUMMARY:Closed - Preserve & Nature Center
DESCRIPTION:
URL:https://www.friendsofmadronamarsh.com/event/preserve-nature-center-closed-2/2030-02-24/
LOCATION:Madrona Marsh Nature Center\, 3201 Plaza Del Amo\, Torrance\, CA\, 90503\, United States
END:VEVENT
BEGIN:VEVENT
DTSTART;VALUE=DATE:20300225
DTEND;VALUE=DATE:20300226
DTSTAMP:20260419T234233
CREATED:20251217T000044Z
LAST-MODIFIED:20251217T000215Z
UID:10002716-1898208000-1898294399@www.friendsofmadronamarsh.com
SUMMARY:Closed - Preserve & Nature Center
DESCRIPTION:
URL:https://www.friendsofmadronamarsh.com/event/preserve-nature-center-closed-2/2030-02-25/
LOCATION:Madrona Marsh Nature Center\, 3201 Plaza Del Amo\, Torrance\, CA\, 90503\, United States
END:VEVENT
BEGIN:VEVENT
DTSTART;TZID=America/Los_Angeles:20300301T100000
DTEND;TZID=America/Los_Angeles:20300301T120000
DTSTAMP:20260419T234233
CREATED:20260107T195358Z
LAST-MODIFIED:20260227T202426Z
UID:10003038-1898589600-1898596800@www.friendsofmadronamarsh.com
SUMMARY:Friday Fun
DESCRIPTION:Friday Fun is a hands-on program for preschoolers\, age 3-6\, and their parents or guardians. The program is offered at no charge every Friday. The program will incorporate story time\, science\, art\, and a tour emphasizing the chosen topic. \n\n\n\nSome weeks\, there will also be potting or other activities. The topics emphasize respect for all living things and prepare the children (and parents) to be good stewards of the planet. \n\n\n\nPre-registration is required. \n\n\n\nRegistration for the Friday event begins on Tuesday at 10:00 am of the same week.Call the Nature Center to register at (310)782-3989. \n\n\n\nSpace is limited to the first 20 people who sign up \n\n\n\n\n\n\n\n\n\n\n\n\n\n\n\n 
URL:https://www.friendsofmadronamarsh.com/event/fridayfun-3/2030-03-01/
LOCATION:Madrona Marsh Nature Center\, 3201 Plaza Del Amo\, Torrance\, CA\, 90503\, United States
CATEGORIES:Kids Programs
ATTACH;FMTTYPE=image/jpeg:https://www.friendsofmadronamarsh.com/wp-content/uploads/2025/10/kids-den-friday-fun-cindy-kids-madrona-marsh.jpg
END:VEVENT
BEGIN:VEVENT
DTSTART;VALUE=DATE:20300303
DTEND;VALUE=DATE:20300304
DTSTAMP:20260419T234233
CREATED:20251217T000044Z
LAST-MODIFIED:20251217T000215Z
UID:10002717-1898726400-1898812799@www.friendsofmadronamarsh.com
SUMMARY:Closed - Preserve & Nature Center
DESCRIPTION:
URL:https://www.friendsofmadronamarsh.com/event/preserve-nature-center-closed-2/2030-03-03/
LOCATION:Madrona Marsh Nature Center\, 3201 Plaza Del Amo\, Torrance\, CA\, 90503\, United States
END:VEVENT
BEGIN:VEVENT
DTSTART;VALUE=DATE:20300304
DTEND;VALUE=DATE:20300305
DTSTAMP:20260419T234233
CREATED:20251217T000044Z
LAST-MODIFIED:20251217T000215Z
UID:10002718-1898812800-1898899199@www.friendsofmadronamarsh.com
SUMMARY:Closed - Preserve & Nature Center
DESCRIPTION:
URL:https://www.friendsofmadronamarsh.com/event/preserve-nature-center-closed-2/2030-03-04/
LOCATION:Madrona Marsh Nature Center\, 3201 Plaza Del Amo\, Torrance\, CA\, 90503\, United States
END:VEVENT
BEGIN:VEVENT
DTSTART;TZID=America/Los_Angeles:20300307T100000
DTEND;TZID=America/Los_Angeles:20300307T113000
DTSTAMP:20260419T234233
CREATED:20251104T031938Z
LAST-MODIFIED:20260111T210108Z
UID:10001375-1899108000-1899113400@www.friendsofmadronamarsh.com
SUMMARY:Tyke Hike
DESCRIPTION:Bring your young child (ages 0 – 6 yr.) for a walk around the Preserve and an introduction to nature. Listen to birds\, look for frogs\, and get refreshed in the sun and our cool breeze. \nChildren must be accompanied by an adult. \nIt’s held in the Preserve. Meet in front of the Nature Center.\nThis is an outdoor event.
URL:https://www.friendsofmadronamarsh.com/event/tyke-hike/2030-03-07/
LOCATION:Madrona Marsh Nature Center\, 3201 Plaza Del Amo\, Torrance\, CA\, 90503\, United States
CATEGORIES:Docent Tours,Kids Programs
ATTACH;FMTTYPE=image/jpeg:https://www.friendsofmadronamarsh.com/wp-content/uploads/2025/11/docent-opp.jpg
END:VEVENT
BEGIN:VEVENT
DTSTART;TZID=America/Los_Angeles:20300308T100000
DTEND;TZID=America/Los_Angeles:20300308T120000
DTSTAMP:20260419T234233
CREATED:20260107T195358Z
LAST-MODIFIED:20260227T202426Z
UID:10003039-1899194400-1899201600@www.friendsofmadronamarsh.com
SUMMARY:Friday Fun
DESCRIPTION:Friday Fun is a hands-on program for preschoolers\, age 3-6\, and their parents or guardians. The program is offered at no charge every Friday. The program will incorporate story time\, science\, art\, and a tour emphasizing the chosen topic. \n\n\n\nSome weeks\, there will also be potting or other activities. The topics emphasize respect for all living things and prepare the children (and parents) to be good stewards of the planet. \n\n\n\nPre-registration is required. \n\n\n\nRegistration for the Friday event begins on Tuesday at 10:00 am of the same week.Call the Nature Center to register at (310)782-3989. \n\n\n\nSpace is limited to the first 20 people who sign up \n\n\n\n\n\n\n\n\n\n\n\n\n\n\n\n 
URL:https://www.friendsofmadronamarsh.com/event/fridayfun-3/2030-03-08/
LOCATION:Madrona Marsh Nature Center\, 3201 Plaza Del Amo\, Torrance\, CA\, 90503\, United States
CATEGORIES:Kids Programs
ATTACH;FMTTYPE=image/jpeg:https://www.friendsofmadronamarsh.com/wp-content/uploads/2025/10/kids-den-friday-fun-cindy-kids-madrona-marsh.jpg
END:VEVENT
END:VCALENDAR